BEGIN:VCALENDAR
VERSION:2.0
PRODID:-//wp-events-plugin.com//7.2.3.1//EN
TZID:Europe/Amsterdam
X-WR-TIMEZONE:Europe/Amsterdam
BEGIN:VEVENT
UID:40725@agenda-zaanstreek.nl
DTSTART;TZID=Europe/Amsterdam:20251126T090000
DTEND;TZID=Europe/Amsterdam:20260123T170000
DTSTAMP:20251125T105317Z
URL:https://agenda-zaanstreek.nl/events/tentoonstelling-60-jaar-migranten-
 van-gastarbeider-naar-zaankanter-in-het-stadhuis/
SUMMARY:Tentoonstelling ‘60 jaar migranten - Van gastarbeider naar Zaanka
 nter’ in het stadhuis
DESCRIPTION:Nederland en Turkije tekenden op 16 augustus 1964 een overeenko
 mst om migranten afkomstig uit Turkije een baan te geven in onder meer de 
 industriesector. Ook bij Zaanse bedrijven kwamen deze werknemers de kost v
 erdienen. Nu – ruim zestig jaar later – zijn zij ook Zaankanters. Geme
 entearchief Zaanstad en Turkse Democratische Volks- en Jongerenvereniging 
 Zaanstad (TDVJZ) / DIDF Zaanstad zochten samen in hun archieven naar wat e
 r in deze periode over het leven van deze migranten is vastgelegd. Samen t
 onen zij deze geschiedenis tot aan de dag van vandaag met een fototentoons
 telling in het stadhuis van Zaanstad.\n\nDenk aan zwart-wit foto’s uit d
 e jaren ’60 van mannen met koffers op een Turks treinstation\, aan kleur
 enfoto’s gemaakt in de fabrieken van Bruynzeel\, Eurometaal en Verkade\,
  aan familieportretten om elkaar op verre afstand te laten weten hoe het g
 aat.\n\nMaar denk ook aan de vele bijeenkomsten\, feesten en protesten voo
 r mannen\, vrouwen\, families of arbeiders die DIDF Zaanstad in de loop va
 n de tijd organiseerde om het integratie- en participatieproces van de mig
 ranten afkomstig uit Turkije te bevorderen.\n\nIn februari van dit jaar wa
 s al een kleine selectie van de foto’s uit deze tentoonstelling te zien 
 in de Bieb in Zaandam. In april was deze selectie te zien in buurtcentrum 
 De Pelikaan in Krommenie\, aangevuld met foto’s van het migrantenleven i
 n Zaanstad-Noord. Deze reizende tentoonstelling\, opnieuw uitgebreid met f
 oto’s en krantenartikelen\, is te zien in de publiekshal tijdens de open
 ingstijden van het stadhuis tot en met 23 januari 2026.\n\n&nbsp\;
CATEGORIES:Expositie
LOCATION:Gemeentehuis Zaanstad\, Stadhuisplein 100\, Zaandam\, 1506 MZ\, Ne
 derland
X-APPLE-STRUCTURED-LOCATION;VALUE=URI;X-ADDRESS=Stadhuisplein 100\, Zaandam
 \, 1506 MZ\, Nederland;X-APPLE-RADIUS=100;X-TITLE=Gemeentehuis Zaanstad:ge
 o:0,0
END:VEVENT
BEGIN:VTIMEZONE
TZID:Europe/Amsterdam
X-LIC-LOCATION:Europe/Amsterdam
BEGIN:STANDARD
DTSTART:20251026T020000
TZOFFSETFROM:+0200
TZOFFSETTO:+0100
TZNAME:CET
END:STANDARD
END:VTIMEZONE
END:VCALENDAR