BEGIN:VCALENDAR
VERSION:2.0
PRODID:-//wp-events-plugin.com//7.2.3.1//EN
TZID:Europe/Amsterdam
X-WR-TIMEZONE:Europe/Amsterdam
BEGIN:VEVENT
UID:36226@agenda-zaanstreek.nl
DTSTART;TZID=Europe/Amsterdam:20250209T143000
DTEND;TZID=Europe/Amsterdam:20250209T143000
DTSTAMP:20241205T111451Z
URL:https://agenda-zaanstreek.nl/events/tent-6-een-reis-voor-dappere-lafaa
 rds/
SUMMARY:Tent (6+) - Een reis voor dappere lafaards
DESCRIPTION:&nbsp\;\nKaya leeft al haar hele leven in een tent\, maar op re
 is ging ze nooit. Als op een dag haar tent begint te krimpen\, is ze genoo
 dzaakt een lange tocht af te leggen naar de oudste en enige tentenmaker di
 e haar kan helpen. Onderweg ontmoet ze wonderlijke mensen\, die er stuk vo
 or stuk hun eigen woongewoontes op nahouden. Terwijl ze alles op alles zet
  om haar kleine katoenen huis te redden\, wordt haar idee van thuis steeds
  groter.\n\n\n\n\nTENT&nbsp\;is een avontuurlijk reisverslag over je thuis
  voelen en oude zekerheden loslaten\, waarin (poppen)spel\, objecttheater\
 , maquettes\, muziek en camera’s samenkomen.\n\n\n\n
CATEGORIES:Jeugd en Familie
LOCATION:Zaantheater\, Nicolaasstraat 3\, Zaandam\, 1506 BB\, Nederland
X-APPLE-STRUCTURED-LOCATION;VALUE=URI;X-ADDRESS=Nicolaasstraat 3\, Zaandam\
 , 1506 BB\, Nederland;X-APPLE-RADIUS=100;X-TITLE=Zaantheater:geo:0,0
END:VEVENT
BEGIN:VTIMEZONE
TZID:Europe/Amsterdam
X-LIC-LOCATION:Europe/Amsterdam
BEGIN:STANDARD
DTSTART:20241027T020000
TZOFFSETFROM:+0200
TZOFFSETTO:+0100
TZNAME:CET
END:STANDARD
END:VTIMEZONE
END:VCALENDAR