BEGIN:VCALENDAR
VERSION:2.0
PRODID:-//wp-events-plugin.com//7.2.3.1//EN
TZID:Europe/Amsterdam
X-WR-TIMEZONE:Europe/Amsterdam
BEGIN:VEVENT
UID:37334@agenda-zaanstreek.nl
DTSTART;TZID=Europe/Amsterdam:20250217T100000
DTEND;TZID=Europe/Amsterdam:20250217T120000
DTSTAMP:20250213T110227Z
URL:https://agenda-zaanstreek.nl/events/tennis-en-fun-maandag-groep-1-t-m-
 8/
SUMMARY:Tennis en Fun maandag (groep 1 t/m 8)
DESCRIPTION:TV Wijdewormer nodigt graag alle kinderen van groep 1 t/m 8 uit
  om kennis te komen maken met Tennis &amp\; Fun op onze vereniging! Met di
 verse tennis- en spelvormen gaan wij graag de sportieve uitdaging aan met 
 jullie.&nbsp\;\nWij zien jullie graag op maandag 17 februari van 10u tot 1
 2u op ons tennispark. We gaan er een sportieve en gezellige ochtend van ma
 ken!\n\nKinderen mogen een eigen tennisracket meenemen\, maar er zijn ook 
 leenrackets aanwezig.\n\nDag/tijd:&nbsp\;maandag 17 februari van 10.00-12.
 00\nLocatie:&nbsp\;TV Wijdewormer\, Tjadenweg 63A in Wijdewormer\nLeiding:
 &nbsp\;Tennisschool Jeroen Hoevenberg\nKosten:&nbsp\;€3\,00\n\nInschrijv
 en\n\n&nbsp\;
CATEGORIES:Jeugd,Recreatiesport
LOCATION:Tennisvereniging Wijdewormer\, Tjadenweg 63A\, Wijdewormer\, Neder
 land
X-APPLE-STRUCTURED-LOCATION;VALUE=URI;X-ADDRESS=Tjadenweg 63A\, Wijdewormer
 \, Nederland;X-APPLE-RADIUS=100;X-TITLE=Tennisvereniging Wijdewormer:geo:0
 ,0
END:VEVENT
BEGIN:VTIMEZONE
TZID:Europe/Amsterdam
X-LIC-LOCATION:Europe/Amsterdam
BEGIN:STANDARD
DTSTART:20241027T020000
TZOFFSETFROM:+0200
TZOFFSETTO:+0100
TZNAME:CET
END:STANDARD
END:VTIMEZONE
END:VCALENDAR