BEGIN:VCALENDAR
VERSION:2.0
PRODID:-//wp-events-plugin.com//7.2.3.1//EN
TZID:Europe/Amsterdam
X-WR-TIMEZONE:Europe/Amsterdam
BEGIN:VEVENT
UID:40053@agenda-zaanstreek.nl
DTSTART;TZID=Europe/Amsterdam:20250906T100000
DTEND;TZID=Europe/Amsterdam:20250906T160000
DTSTAMP:20250904T092201Z
URL:https://agenda-zaanstreek.nl/events/tegendraads-uit-de-bocht-van-schaa
 p-tot-draad/
SUMMARY:Tegendraads uit de Bocht - Van Schaap tot Draad
DESCRIPTION:Met Tegendraads uit de Bocht willen we het accent leggen op all
 es op en over textiel. Kort samengevat alles&nbsp\;VAN SCHAAP TOT DRAAD. W
 e willen tijdens dit evenement aandacht besteden aan zowel traditionele al
 s nieuwe technieken\n\nOpzet\n\nOver een lang gedeelte aan de waterzijde v
 an de Zaanbocht( Zaanweg) van Wormerveer staan op deze dag marktkramen waa
 r mensen/bedrijven die zich bezighouden met iets van Schaap tot Draad zich
 zelf presenteren. De vorm kan heel uiteenlopend zijn. Het kan nieuw zijn m
 aar ook oud. Het kan art zijn\, maar ook heel basic. Gewoon alles wat je k
 unt doen met textiel. Ook zullen er demonstratie gegeven worden. Zo kunt u
  ook spinners aan het werk zien. We streven naar een zo groot mogelijke di
 versiteit.&nbsp\;\n\nNeem vooral uw breiwerk mee naar het biercafé\, pak 
 een stoel en ga in gesprek met een landelijk bekende bloggers die in het c
 afé aanwezig is.\n\nNieuw dit jaar zijn de modeshows die op deze dag gelo
 pen worden. In deze shows zal aandacht zijn voor de verschillende culturen
  die in Zaanstad leven en mogelijk ook voor jonge ontwerpers. Aan het prog
 ramma wordt nog druk gewerkt.\n\nDe locatie is vlak bij het station van Wo
 rmerveer dus prima bereikbaar. Er zijn ook diverse horecabedrijven/terrasj
 es zodat u er een heerlijk dagje uit van kunt maken.\n\nTegendraad uit de 
 Bocht duurt zaterdag 6 september van 10.30 tot 16.30 uur en is gratis te b
 ezoeken.\nOm te zien welke deelnemers er aanwezig zijn kijk je op https://
 tegendraads.dezaanbocht.nl of check hun socials
CATEGORIES:Markt Braderie
LOCATION:Wormerveer Zaanbocht\, -\, Wormerveer\, Wormerveer\, Nederland
X-APPLE-STRUCTURED-LOCATION;VALUE=URI;X-ADDRESS=-\, Wormerveer\, Wormerveer
 \, Nederland;X-APPLE-RADIUS=100;X-TITLE=Wormerveer Zaanbocht:geo:0,0
END:VEVENT
BEGIN:VTIMEZONE
TZID:Europe/Amsterdam
X-LIC-LOCATION:Europe/Amsterdam
BEGIN:DAYLIGHT
DTSTART:20250330T030000
TZOFFSETFROM:+0100
TZOFFSETTO:+0200
TZNAME:CEST
END:DAYLIGHT
END:VTIMEZONE
END:VCALENDAR