BEGIN:VCALENDAR
VERSION:2.0
PRODID:-//wp-events-plugin.com//7.2.3.1//EN
TZID:Europe/Amsterdam
X-WR-TIMEZONE:Europe/Amsterdam
BEGIN:VEVENT
UID:40874@agenda-zaanstreek.nl
DTSTART;TZID=Europe/Amsterdam:20251213T150000
DTEND;TZID=Europe/Amsterdam:20251213T150000
DTSTAMP:20251211T104746Z
URL:https://agenda-zaanstreek.nl/events/teenage-dreams-in-de-hemkade/
SUMMARY:Teenage Dreams in de Hemkade
DESCRIPTION:\n\n\n\n\n&nbsp\;\n\n\n\n\n15:00 - 00:00\n\n\n\n€ 45\,00\n\n\
 n\nWebsite van het evenement\n\n\nTeenage Dreams komt deze winter naar de 
 Hemkade voor een nacht vol energieke clubsounds. DJ Heartstring brengt een
  stevige set mee\, samen met een nog geheime lineup. Een avond voor iedere
 en die houdt van harde beats en een volle dansvloer.
CATEGORIES:Muziek
LOCATION:North Sea Venue\, Hemkade 48\, Zaandam\, 1506 PS\, Nederland
X-APPLE-STRUCTURED-LOCATION;VALUE=URI;X-ADDRESS=Hemkade 48\, Zaandam\, 1506
  PS\, Nederland;X-APPLE-RADIUS=100;X-TITLE=North Sea Venue:geo:0,0
END:VEVENT
BEGIN:VTIMEZONE
TZID:Europe/Amsterdam
X-LIC-LOCATION:Europe/Amsterdam
BEGIN:STANDARD
DTSTART:20251026T020000
TZOFFSETFROM:+0200
TZOFFSETTO:+0100
TZNAME:CET
END:STANDARD
END:VTIMEZONE
END:VCALENDAR