BEGIN:VCALENDAR
VERSION:2.0
PRODID:-//wp-events-plugin.com//7.2.3.1//EN
TZID:Europe/Amsterdam
X-WR-TIMEZONE:Europe/Amsterdam
BEGIN:VEVENT
UID:37862@agenda-zaanstreek.nl
DTSTART;TZID=Europe/Amsterdam:20250322T203000
DTEND;TZID=Europe/Amsterdam:20250322T203000
DTSTAMP:20250320T110016Z
URL:https://agenda-zaanstreek.nl/events/talent-showcases/
SUMMARY:Talent Showcases
DESCRIPTION:\n\n\n\n\n\n\n\n\n\n 	\n\nzaterdag\, mrt 22\, 2025Open: 20:00Aa
 nvang: 20:30Prijs: gratis\nTalent Showcases Captain Clueless Hesco Roycely
  Matig\n\n\n\n\n\nCaptain Clueless\nHesco Roycely\nMatig\n\nZaal open 20:0
 0Aanvang 20:30\nEind 00:00\n\n\n\n\n\n\n
CATEGORIES:Muziek
LOCATION:De Groote Weiver\, Industrieweg 1a\, Wormerveer\, 1521 NA\, Wormer
 veer\, Nederland
X-APPLE-STRUCTURED-LOCATION;VALUE=URI;X-ADDRESS=Industrieweg 1a\, Wormervee
 r\, 1521 NA\, Wormerveer\, Nederland;X-APPLE-RADIUS=100;X-TITLE=De Groote 
 Weiver:geo:0,0
END:VEVENT
BEGIN:VTIMEZONE
TZID:Europe/Amsterdam
X-LIC-LOCATION:Europe/Amsterdam
BEGIN:STANDARD
DTSTART:20241027T020000
TZOFFSETFROM:+0200
TZOFFSETTO:+0100
TZNAME:CET
END:STANDARD
END:VTIMEZONE
END:VCALENDAR