BEGIN:VCALENDAR
VERSION:2.0
PRODID:-//wp-events-plugin.com//7.2.3.1//EN
TZID:Europe/Amsterdam
X-WR-TIMEZONE:Europe/Amsterdam
BEGIN:VEVENT
UID:36092@agenda-zaanstreek.nl
DTSTART;TZID=Europe/Amsterdam:20250123T203000
DTEND;TZID=Europe/Amsterdam:20250123T203000
DTSTAMP:20241128T133528Z
URL:https://agenda-zaanstreek.nl/events/t-hooge-nest-solo-stories/
SUMMARY:'t Hooge Nest - Solo Stories
DESCRIPTION:\n\ndo23 jan 202520.30Kleine zaal\n\n\n\ntry-outBestel\nMeer In
 fo\n\n\nDe makers van&nbsp\;Nu zie ik je&nbsp\;en&nbsp\;Sonny Boy\, komen 
 dit seizoen met een toneelbewerking van de gelijknamige bestseller van Rox
 ane van Iperen.&nbsp\;’t Hooge nest&nbsp\;als monoloog door acteur Focke
 line Ouwerkerk. Als schrijver Roxane van Iperen samen met haar gezin een o
 ude villa in de bossen van Naarden betrekt\, weet ze niets van de geheime 
 geschiedenis van dit huis. Pas tijdens de verbouwing ontdekt ze intrigeren
 de sporen uit het verleden. Onder hetzelfde dak runden twee Joodse zussen 
 ooit een van de grootste onderduikadressen van Nederland. Tachtig jaar na 
 de Tweede Wereldoorlog wordt hun waargebeurde verhaal vanuit het heden tot
  leven gewekt in de monoloog&nbsp\;’t Hooge Nest. Wie waren de bewoners 
 van het huis? En wat maakte hen zo moedig?&nbsp\;\n\n
CATEGORIES:Theater,Toneel
LOCATION:Zaantheater\, Nicolaasstraat 3\, Zaandam\, 1506 BB\, Nederland
X-APPLE-STRUCTURED-LOCATION;VALUE=URI;X-ADDRESS=Nicolaasstraat 3\, Zaandam\
 , 1506 BB\, Nederland;X-APPLE-RADIUS=100;X-TITLE=Zaantheater:geo:0,0
END:VEVENT
BEGIN:VTIMEZONE
TZID:Europe/Amsterdam
X-LIC-LOCATION:Europe/Amsterdam
BEGIN:STANDARD
DTSTART:20241027T020000
TZOFFSETFROM:+0200
TZOFFSETTO:+0100
TZNAME:CET
END:STANDARD
END:VTIMEZONE
END:VCALENDAR