BEGIN:VCALENDAR
VERSION:2.0
PRODID:-//wp-events-plugin.com//7.2.3.1//EN
TZID:Europe/Amsterdam
X-WR-TIMEZONE:Europe/Amsterdam
BEGIN:VEVENT
UID:35696@agenda-zaanstreek.nl
DTSTART;TZID=Europe/Amsterdam:20241117T110000
DTEND;TZID=Europe/Amsterdam:20241117T150000
DTSTAMP:20241107T094807Z
URL:https://agenda-zaanstreek.nl/events/swap-sint-in-de-bieb-zaandam/
SUMMARY:'Swap Sint' in De Bieb Zaandam
DESCRIPTION:Van ruilen komt huilen? Nee hoor! De Bieb maakt van tweedehands
  de eerste keus. Met de Swap Sint-ruilmarkt wil De Bieb zo veel mogelijk s
 peelgoed een tweede (of derde\, of vierde...) leven geven. Op deze manier 
 bespaar je tijd én geld\, ruim je je huis op\, en doe je iets goeds voor 
 de wereld. Swap Sint vindt plaats op 17 november van 11.00 tot 15.00 uur i
 n De Bieb Zaandam.\nVan ruilen komt huilen? Nee hoor!\nKom je ook? Sinterk
 laas brengt elk jaar nieuwe cadeautjes mee\, terwijl er bergen met speelgo
 ed zijn waar bijna niet mee wordt gespeeld. Daarom gaat Swap Sint dit jaar
  de cadeau-inkoop duurzamer aanpakken\, met speelgoed ruilmarkten door hee
 l het land. Swap Sint is dé manier om het Sinterklaasfeest duurzaam en be
 taalbaar te vieren. Sprokkel daarom alle spelletjes\, speelgoed en knuffel
 s bij elkaar waar jouw kind niet meer naar omkijkt. Wie weet maak je een a
 nder kind er heel blij mee.&nbsp\;\nSpelregels\nAlle soorten speelgoed zij
 n welkom. De enige voorwaarden zijn dat het speelgoed heel en schoon is en
  werkt zoals het hoort. Voor elk stuk speelgoed dat je achterlaat\, mag je
  een ander stuk speelgoed meenemen. Wil je alleen speelgoed komen brengen\
 , of alleen halen? Ook dat is geen probleem. Alles wat overblijft wordt aa
 n een goed doel geschonken. Gedichtenpieten helpen Heb je een mooi cadeau 
 uitgezocht en wil je er een gedicht bij schrijven? Schakel dan de hulp in 
 van de Gedichtenpieten. Zij helpen je met het maken van Sinterklaasgedicht
 en. Speelgoed inleveren kan daar vanaf maandag 11 november 13.00 uur. Iede
 reen is welkom bij de Swap Sint-dag en je hoeft geen lid te zijn van De Bi
 eb.\n\nBron: Rodi
LOCATION:De Bieb Zaandam\, Westzijde 170 A\, Zaandam\, 1506 EK\, Nederland
X-APPLE-STRUCTURED-LOCATION;VALUE=URI;X-ADDRESS=Westzijde 170 A\, Zaandam\,
  1506 EK\, Nederland;X-APPLE-RADIUS=100;X-TITLE=De Bieb Zaandam:geo:0,0
END:VEVENT
BEGIN:VTIMEZONE
TZID:Europe/Amsterdam
X-LIC-LOCATION:Europe/Amsterdam
BEGIN:STANDARD
DTSTART:20241027T020000
TZOFFSETFROM:+0200
TZOFFSETTO:+0100
TZNAME:CET
END:STANDARD
END:VTIMEZONE
END:VCALENDAR