BEGIN:VCALENDAR
VERSION:2.0
PRODID:-//wp-events-plugin.com//7.2.3.1//EN
TZID:Europe/Amsterdam
X-WR-TIMEZONE:Europe/Amsterdam
BEGIN:VEVENT
UID:35798@agenda-zaanstreek.nl
DTSTART;TZID=Europe/Amsterdam:20241123T130000
DTEND;TZID=Europe/Amsterdam:20241123T180000
DTSTAMP:20241114T085102Z
URL:https://agenda-zaanstreek.nl/events/street-art-en-live-painting/
SUMMARY:Street art en live painting
DESCRIPTION:Wilde je dat je Banksy kende voordat hij Banksy was? Kom dan op
  23 november naar UNKnowN Art Gallery Zaandam\, te vinden op het sluizenco
 mplex in Zaandam/Oostkade/Peperstraat.\nDe kleurrijke kunstlocatie brengt 
 de straat tot leven met een unieke 'street art-gathering'. Als thuisbasis 
 voor straatkunstenaars uit binnen- en buitenland nodigt de galerie je uit 
 vanaf 13.00 uur tot 18.00 uur voor een middag vol street art\, live painti
 ng\, muziek\, drankjes en gezelligheid. Naast gerenommeerde en gevestigde 
 artiesten biedt UNKnowN Art Gallery een podium aan nieuw en opkomend talen
 t. Deze bekende én onbekende kunstenaars tonen hun werk tijdens het evene
 ment. De kunstwerken zijn ook te koop voor minder dan 500 euro
CATEGORIES:Expositie
LOCATION:Art Unknown Pop Up Art Gallery\, Oostkade 10-12\, Zaandam\, Nederl
 and
X-APPLE-STRUCTURED-LOCATION;VALUE=URI;X-ADDRESS=Oostkade 10-12\, Zaandam\, 
 Nederland;X-APPLE-RADIUS=100;X-TITLE=Art Unknown Pop Up Art Gallery:geo:0,
 0
END:VEVENT
BEGIN:VTIMEZONE
TZID:Europe/Amsterdam
X-LIC-LOCATION:Europe/Amsterdam
BEGIN:STANDARD
DTSTART:20241027T020000
TZOFFSETFROM:+0200
TZOFFSETTO:+0100
TZNAME:CET
END:STANDARD
END:VTIMEZONE
END:VCALENDAR