BEGIN:VCALENDAR
VERSION:2.0
PRODID:-//wp-events-plugin.com//7.2.3.1//EN
TZID:Europe/Amsterdam
X-WR-TIMEZONE:Europe/Amsterdam
BEGIN:VEVENT
UID:36089@agenda-zaanstreek.nl
DTSTART;TZID=Europe/Amsterdam:20250116T193000
DTEND;TZID=Europe/Amsterdam:20250116T193000
DTSTAMP:20241128T133134Z
URL:https://agenda-zaanstreek.nl/events/stom-10-theater-utrecht-hntjong/
SUMMARY:STOM (10+) - Theater Utrecht & HNTJong
DESCRIPTION:\n\n 	Jeugd &amp\; Familie\, Theater &amp\; Toneel\n\n\n\ndo16 
 jan 202519.30Kleine ZaalBestel\nMeer Info\n\n\nHeel veel muziek\, best wel
  grappige figuren en een behoorlijk bijdehand hoofdpersoon. Dat is&nbsp\;S
 TOM. Er is iets mis met Ziggy. Ze praat niet meer. Niks. Geen woord. En ni
 et dat ze het niet kan. Ze kan hartstikke goed praten\, je had haar eens m
 oeten horen. Maar nu zegt ze dus niks meer.\n\n\n\n\n\n\nIntussen gaat ze 
 gewoon naar school\, feestjes\, muziekles\, maar helemaal in stilte. Hoe h
 eb je een gesprek met iemand die niks terugzegt? Is het dapper of loopt ze
  aandacht te trekken? Heeft ze een zeldzame ziekte? Heeft ze iets vreselij
 ks meegemaakt? Of moet ze gewoon een beetje normaal doen? Haar beste vrien
 din\, haar ouders\, de psycholoog waar ze naartoe moet\, nou ja\, eigenlij
 k iedereen heeft er iets over te zeggen. Maar Ziggy niet. Die zwijgt. Ook 
 als haar ouders wanhopig worden\, ook als haar vrienden geen zin meer hebb
 en om iets met haar te doen. Wat als Ziggy helemaal nooit meer iets zegt?&
 nbsp\;\n\nRegisseur Casper Vandeputte maakt met&nbsp\;STOM&nbsp\;een voors
 telling over geen woorden kunnen geven aan je binnenwereld. Over niet wete
 n wat er met je aan de hand is. Met acteurs Kirsten Mulder\, Sophie Höppe
 ner en Kaspar Schellingerhout\, die ook de (live)muziek voor zijn rekening
  neemt. Vandeputte maakte eerder de prijswinnende jongerenvoorstelling&nbs
 p\;Bloedlink&nbsp\;(14+) en de theaterhit&nbsp\;De Gebroeders Leeuwenhart&
 nbsp\;(8+).\n\n\n\n
CATEGORIES:Jeugd en Familie
LOCATION:Zaantheater\, Nicolaasstraat 3\, Zaandam\, 1506 BB\, Nederland
X-APPLE-STRUCTURED-LOCATION;VALUE=URI;X-ADDRESS=Nicolaasstraat 3\, Zaandam\
 , 1506 BB\, Nederland;X-APPLE-RADIUS=100;X-TITLE=Zaantheater:geo:0,0
END:VEVENT
BEGIN:VTIMEZONE
TZID:Europe/Amsterdam
X-LIC-LOCATION:Europe/Amsterdam
BEGIN:STANDARD
DTSTART:20241027T020000
TZOFFSETFROM:+0200
TZOFFSETTO:+0100
TZNAME:CET
END:STANDARD
END:VTIMEZONE
END:VCALENDAR