BEGIN:VCALENDAR
VERSION:2.0
PRODID:-//wp-events-plugin.com//7.2.3.1//EN
TZID:Europe/Amsterdam
X-WR-TIMEZONE:Europe/Amsterdam
BEGIN:VEVENT
UID:37747@agenda-zaanstreek.nl
DTSTART;TZID=Europe/Amsterdam:20250503T100000
DTEND;TZID=Europe/Amsterdam:20250503T130000
DTSTAMP:20250313T101356Z
URL:https://agenda-zaanstreek.nl/events/stekkenmarkt-bij-tuinclub-wijdewor
 mer/
SUMMARY:Stekkenmarkt bij Tuinclub Wijdewormer
DESCRIPTION:Markeer 3 mei in je agenda en ontdek de groene passie op de ste
 kken markt van de tuinclub Wijdewormer.\n\nEr wordt ongetwijfeld nu al vol
 op gezaaid en gekweekt om straks een mooi aanbod te kunnen presenteren. De
  Tuinclub Wijdewormer houdt op zaterdag 3 mei haar jaarlijkse stekkenmarkt
 .\nDe gezellige locatie is bij de familie Schilder aan de Noorderweg 111B 
 in Wijdewormer.\nOp de sfeervolle markt wacht een diversiteit aan planten 
 en stekjes.&nbsp\;
CATEGORIES:Markt Braderie
LOCATION:Wijdewormer\, ...\, Wijdewormer\, Nederland
X-APPLE-STRUCTURED-LOCATION;VALUE=URI;X-ADDRESS=...\, Wijdewormer\, Nederla
 nd;X-APPLE-RADIUS=100;X-TITLE=Wijdewormer:geo:0,0
END:VEVENT
BEGIN:VTIMEZONE
TZID:Europe/Amsterdam
X-LIC-LOCATION:Europe/Amsterdam
BEGIN:DAYLIGHT
DTSTART:20250330T030000
TZOFFSETFROM:+0100
TZOFFSETTO:+0200
TZNAME:CEST
END:DAYLIGHT
END:VTIMEZONE
END:VCALENDAR