BEGIN:VCALENDAR
VERSION:2.0
PRODID:-//wp-events-plugin.com//7.2.3.1//EN
TZID:Europe/Amsterdam
X-WR-TIMEZONE:Europe/Amsterdam
BEGIN:VEVENT
UID:37241@agenda-zaanstreek.nl
DTSTART;TZID=Europe/Amsterdam:20250222T000000
DTEND;TZID=Europe/Amsterdam:20250222T000000
DTSTAMP:20250206T102138Z
URL:https://agenda-zaanstreek.nl/events/start-cursus-sportief-wandelen-en-
 start-to-run/
SUMMARY:Start cursus Sportief wandelen en Start to Run
DESCRIPTION:AV Lycurgus begint op 22 februari op de baan van Sportpark De O
 mzoom\, Jaap Bootpad 4\, met een nieuwe cursus Starten met Sportief Wandel
 en. Naast deze cursus wordt er ook gelijktijdig gestart met een cursus Sta
 rt to Run.&nbsp\;\nBij het sportief wandelen komen kracht\, lenigheid\, ui
 thoudingsvermogen en snelheid aan bod. Ook het sociale aspect is een belan
 grijk onderdeel. Er zijn 19 trainingen aan op zaterdagochtend en donderdag
 avond. Op dinsdag krijg je een huiswerk training\, De cursus eindigt op 5 
 april en kost 49\,95 euro. Wordt je daarna lid van AV Lycurgus dan mag je 
 nog een maand lang gratis meetrainen. Wil je aan de cursus Sportief Wandel
 en meedoen geef je dan op per email janvelt75@gmail.com. Opgeven voor Star
 t to Run kan je doen op de site hardlopen.nl
CATEGORIES:Recreatiesport
LOCATION:AV Lycurgus\, Jaap Bootpad 4\, Assendelft\, 1567 DA\, Nederland
X-APPLE-STRUCTURED-LOCATION;VALUE=URI;X-ADDRESS=Jaap Bootpad 4\, Assendelft
 \, 1567 DA\, Nederland;X-APPLE-RADIUS=100;X-TITLE=AV Lycurgus:geo:0,0
END:VEVENT
BEGIN:VTIMEZONE
TZID:Europe/Amsterdam
X-LIC-LOCATION:Europe/Amsterdam
BEGIN:STANDARD
DTSTART:20241027T020000
TZOFFSETFROM:+0200
TZOFFSETTO:+0100
TZNAME:CET
END:STANDARD
END:VTIMEZONE
END:VCALENDAR