BEGIN:VCALENDAR
VERSION:2.0
PRODID:-//wp-events-plugin.com//7.2.3.1//EN
TZID:Europe/Amsterdam
X-WR-TIMEZONE:Europe/Amsterdam
BEGIN:VEVENT
UID:39843@agenda-zaanstreek.nl
DTSTART;TZID=Europe/Amsterdam;VALUE=DATE:20250806
DTEND;TZID=Europe/Amsterdam;VALUE=DATE:20250808
DTSTAMP:20250805T185843Z
URL:https://agenda-zaanstreek.nl/events/sportieve-dagen-voor-kids-bij-rcz/
SUMMARY:Sportieve dagen voor kids bij RCZ
DESCRIPTION:De Beweeghelden organiseren deze dagen voor kinderen van 5 t/m 
 12 jaar met leuke sport- en spelactiviteiten en waterpret op dag 2. De lun
 ch en een snack worden verzorgd.\n&nbsp\;\nData en leeftijden:\n• 4 &amp
 \; 5 augustus: kinderen van 5 t/m 8 jaar\n• 6 &amp\; 7 augustus: kindere
 n van 9 t/m 12 jaar\n&nbsp\;\nBron: De Orkaan
CATEGORIES:Jeugd
LOCATION:Voetbalvereniging RCZ\, Doctor H.G. Scholtenstraat 20\, Zaandam\, 
 1508 EB\, Nederland
X-APPLE-STRUCTURED-LOCATION;VALUE=URI;X-ADDRESS=Doctor H.G. Scholtenstraat 
 20\, Zaandam\, 1508 EB\, Nederland;X-APPLE-RADIUS=100;X-TITLE=Voetbalveren
 iging RCZ:geo:0,0
END:VEVENT
BEGIN:VTIMEZONE
TZID:Europe/Amsterdam
X-LIC-LOCATION:Europe/Amsterdam
BEGIN:DAYLIGHT
DTSTART:20250330T030000
TZOFFSETFROM:+0100
TZOFFSETTO:+0200
TZNAME:CEST
END:DAYLIGHT
END:VTIMEZONE
END:VCALENDAR