BEGIN:VCALENDAR
VERSION:2.0
PRODID:-//wp-events-plugin.com//7.2.3.1//EN
TZID:Europe/Amsterdam
X-WR-TIMEZONE:Europe/Amsterdam
BEGIN:VEVENT
UID:36358@agenda-zaanstreek.nl
DTSTART;TZID=Europe/Amsterdam:20250303T200000
DTEND;TZID=Europe/Amsterdam:20250303T200000
DTSTAMP:20241212T110748Z
URL:https://agenda-zaanstreek.nl/events/sporen-naar-de-horizon-door-bastia
 an-brink/
SUMMARY:Sporen naar de horizon\, door Bastiaan Brink
DESCRIPTION:\n\nTOEGANGSKAARTEN RESERVEREN UITSLUITEND VIA ’T NUT / in de
  Wormerveerse Vermaning\, Zaanweg 57\, Wormerveer\n\n\n\n\nWat Bastiaan Br
 ink voorheen deed met noten\, doet hij nu met woorden.\nHoe werd zijn carr
 ière als concertpianist lamgelegd door de zogenaamde ‘muzikantenvloek
 ’? En hoe hervond hij\nde zin en de schoonheid van het leven tijdens een
  reis langs de meest afgelegen en wonderlijke plekken op aarde...?\nHij ve
 rtelt erover tijdens zijn voordracht ‘Sporen naar de horizon’\, gebase
 erd op het gelijknamige boek. Een hoopgevend verhaal over hoe een mens teg
 enslag kan overwinnen door een nieuwe wending te geven aan zijn leven.\nNa
 ast zijn achtergrond als musicus en schrijver vertelt hij eventueel ook no
 g iets over zijn werkzaamheden als\nbiograaf en olijfolieproducent.\nBasti
 aan Brink (1973) is musicus\, schrijver en olijfolieproducent.\nDaarnaast 
 studeerde hij antropologie\, filosofie en theologie aan de Universiteit va
 n Amsterdam. Al van jongs af aan\nmaakt hij reizen en probeert hij mensen 
 via muzikale of geschreven vertellingen mee te voeren naar werelden\, die 
 zich bevinden achter de horizon.\n\n• Toegangsprijs voor leden van 't NU
 T gratis\n• Toegangsprijs voor niet-leden € 10\,00\n\nTOEGANGSKAARTEN 
 RESERVEREN UITSLUITEND VIA ’T NUT\nhttps://nutzaanstad.nl/events/list/\n
 \nZaal open: 19.30 uur\n
CATEGORIES:Lezing
LOCATION:Wormerveerse Vermaning\, Zaanweg 57\, Wormerveer\, 1521 DM\, Neder
 land
X-APPLE-STRUCTURED-LOCATION;VALUE=URI;X-ADDRESS=Zaanweg 57\, Wormerveer\, 1
 521 DM\, Nederland;X-APPLE-RADIUS=100;X-TITLE=Wormerveerse Vermaning:geo:0
 ,0
END:VEVENT
BEGIN:VTIMEZONE
TZID:Europe/Amsterdam
X-LIC-LOCATION:Europe/Amsterdam
BEGIN:STANDARD
DTSTART:20241027T020000
TZOFFSETFROM:+0200
TZOFFSETTO:+0100
TZNAME:CET
END:STANDARD
END:VTIMEZONE
END:VCALENDAR