BEGIN:VCALENDAR
VERSION:2.0
PRODID:-//wp-events-plugin.com//7.2.3.1//EN
TZID:Europe/Amsterdam
X-WR-TIMEZONE:Europe/Amsterdam
BEGIN:VEVENT
UID:38126@agenda-zaanstreek.nl
DTSTART;TZID=Europe/Amsterdam:20250617T110000
DTEND;TZID=Europe/Amsterdam:20250617T170000
DTSTAMP:20250407T192942Z
URL:https://agenda-zaanstreek.nl/events/spirituele-gezondheidsbeurs/
SUMMARY:Spirituele & Gezondheidsbeurs
DESCRIPTION:
CATEGORIES:Spiritueel
LOCATION:Buurtvereniging De Bres\, dr Snijderstraat 2A\, Oostzaan\, 1511 VJ
 \, Nederland
X-APPLE-STRUCTURED-LOCATION;VALUE=URI;X-ADDRESS=dr Snijderstraat 2A\, Oostz
 aan\, 1511 VJ\, Nederland;X-APPLE-RADIUS=100;X-TITLE=Buurtvereniging De Br
 es:geo:0,0
END:VEVENT
BEGIN:VTIMEZONE
TZID:Europe/Amsterdam
X-LIC-LOCATION:Europe/Amsterdam
BEGIN:DAYLIGHT
DTSTART:20250330T030000
TZOFFSETFROM:+0100
TZOFFSETTO:+0200
TZNAME:CEST
END:DAYLIGHT
END:VTIMEZONE
END:VCALENDAR