BEGIN:VCALENDAR
VERSION:2.0
PRODID:-//wp-events-plugin.com//7.2.3.1//EN
TZID:Europe/Amsterdam
X-WR-TIMEZONE:Europe/Amsterdam
BEGIN:VEVENT
UID:37245@agenda-zaanstreek.nl
DTSTART;TZID=Europe/Amsterdam:20250219T140000
DTEND;TZID=Europe/Amsterdam:20250219T140000
DTSTAMP:20250206T104327Z
URL:https://agenda-zaanstreek.nl/events/spektakolo-pinokkio/
SUMMARY:Spektakolo Pinokkio
DESCRIPTION:\n\nHet verhaal van Pinokkio…\n…. maar dan anders! Of ander
 s\, het verhaal blijft hetzelfde maar theatergezelschap De Vliegende Koffe
 r maakt er nog meer een spektakel van. Het trio haalt letterlijk alles uit
  de kast om de avonturen van de houten pop te verbeelden. Muziek\, clowner
 ie en natuurlijk poppenspel\, het wordt een bont spektakel. Of een vrolijk
  feest der mislukking? Komt dat zien\, komt dat zien!\n\n
CATEGORIES:Jeugd,Theater
LOCATION:Buurtcentrum De Pelikaan\, Kervelstraat 185-A\, Krommenie\, 1562 A
 J\, Nederland
X-APPLE-STRUCTURED-LOCATION;VALUE=URI;X-ADDRESS=Kervelstraat 185-A\, Kromme
 nie\, 1562 AJ\, Nederland;X-APPLE-RADIUS=100;X-TITLE=Buurtcentrum De Pelik
 aan:geo:0,0
END:VEVENT
BEGIN:VTIMEZONE
TZID:Europe/Amsterdam
X-LIC-LOCATION:Europe/Amsterdam
BEGIN:STANDARD
DTSTART:20241027T020000
TZOFFSETFROM:+0200
TZOFFSETTO:+0100
TZNAME:CET
END:STANDARD
END:VTIMEZONE
END:VCALENDAR