BEGIN:VCALENDAR
VERSION:2.0
PRODID:-//wp-events-plugin.com//7.2.3.1//EN
TZID:Europe/Amsterdam
X-WR-TIMEZONE:Europe/Amsterdam
BEGIN:VEVENT
UID:38123@agenda-zaanstreek.nl
DTSTART;TZID=Europe/Amsterdam:20250412T120000
DTEND;TZID=Europe/Amsterdam:20250412T120000
DTSTAMP:20250406T190759Z
URL:https://agenda-zaanstreek.nl/events/speciaalbier-festival/
SUMMARY:Speciaalbier Festival
DESCRIPTION:\n\n\n\n\n\n\nZaterdag 12 April staan er vanaf 12:00 uur 5 brou
 wers met hun bieren op het terras van Tapperij de Verwachting. Het beloofd
  prachtig weer te worden\, temperatuur zou iets hoger mogen maar heel de d
 ag zon\, wat willen we nog meer?\n&nbsp\;\n\n\n\n\n\n\n\n\n\n\n\n\n\n\n\n&
 nbsp\;\n\n\n\n\n\n\n\n\n\n\n\n\n1\n\n\n&nbsp\;\n&nbsp\;\n\n\n\n\n\n\n
CATEGORIES:Horeca
LOCATION:Tapperij De Verwachting\, Dorpsstraat 584\, Assendelft\, 1566 EK\,
  Nederland
X-APPLE-STRUCTURED-LOCATION;VALUE=URI;X-ADDRESS=Dorpsstraat 584\, Assendelf
 t\, 1566 EK\, Nederland;X-APPLE-RADIUS=100;X-TITLE=Tapperij De Verwachting
 :geo:0,0
END:VEVENT
BEGIN:VTIMEZONE
TZID:Europe/Amsterdam
X-LIC-LOCATION:Europe/Amsterdam
BEGIN:DAYLIGHT
DTSTART:20250330T030000
TZOFFSETFROM:+0100
TZOFFSETTO:+0200
TZNAME:CEST
END:DAYLIGHT
END:VTIMEZONE
END:VCALENDAR