BEGIN:VCALENDAR
VERSION:2.0
PRODID:-//wp-events-plugin.com//7.2.3.1//EN
TZID:Europe/Amsterdam
X-WR-TIMEZONE:Europe/Amsterdam
BEGIN:VEVENT
UID:37089@agenda-zaanstreek.nl
DTSTART;TZID=Europe/Amsterdam:20250207T200000
DTEND;TZID=Europe/Amsterdam:20250207T210000
DTSTAMP:20250130T104305Z
URL:https://agenda-zaanstreek.nl/events/soundhaeling-en-reiki/
SUMMARY:Soundhaeling en Reiki
DESCRIPTION:\n\n\nKosten 20\,00\n\naanmelden via info@flowpractice.nl of 06
 -41094493 Whatsapp\n\nEen soundhealing en reiki-sessie is een holistische 
 benadering van welzijn waarbij twee krachtige technieken samenkomen om lic
 haam en geest te harmoniseren en te helen.\n\nSoundhealing maakt gebruik v
 an geluidsgolven om het lichaam en de geest in balans te brengen. Tijdens 
 een sessie worden vaak instrumenten zoals klankschalen\, gong\, drum of st
 em gebruikt om diepe trillingen te creëren. Het geluid kan een directe in
 vloed hebben op ons zenuwstelsel en hersengolven. Door middel van specifie
 ke frequenties kunnen hersengolven in een staat van ontspanning of meditat
 ieve diepte worden gebracht. Dit verlaagt de productie van stresshormonen\
 , bevordert de circulatie\, en stimuleert zelfherstellende processen in he
 t lichaam. Klanken kunnen blokkades in energiekanalen (zoals meridianen) v
 rijmaken en het natuurlijke genezingsproces van het lichaam ondersteunen.\
 n\nReiki is een vorm van energetische genezing die werkt door het doorgeve
 n van universele levensenergie via de handen van de beoefenaar. Deze energ
 ie helpt het lichaam zijn balans te herstellen en bevordert ontspanning\, 
 vermindert stress en ondersteunt emotioneel herstel. Reiki wordt vaak erva
 ren als een warme\, rustgevende stroom van energie die helpt om blokkades 
 op energetisch niveau te verlichten. Dit kan leiden tot een verbetering va
 n de mentale helderheid\, emotionele stabiliteit en fysieke gezondheid.\n\
 nSamen kunnen soundhealing en reiki een diepe staat van ontspanning en inn
 erlijke rust teweegbrengen. Wetenschappelijk gezien kunnen dergelijke beha
 ndelingen bijdragen aan de verlaging van het cortisolniveau (stresshormoon
 )\, verbetering van de bloedcirculatie\, en verhoogde hersenactiviteit in 
 de gebieden die geassocieerd worden met ontspanning en genezing. Daarnaast
  wordt vaak ervaren dat mensen na een sessie een gevoel van verjonging\, h
 elderheid en emotioneel evenwicht hebben.\n\nKortom\, soundhealing en reik
 i zijn krachtige tools voor het bevorderen van zowel fysieke als mentale g
 ezondheid. Ze helpen je om in contact te komen met je innerlijke kracht\, 
 blokkades los te laten en een diep gevoel van welzijn te ervaren.\n\n\n
CATEGORIES:Spiritueel
LOCATION:Buurtvereniging De Bres\, dr Snijderstraat 2A\, Oostzaan\, 1511 VJ
 \, Nederland
X-APPLE-STRUCTURED-LOCATION;VALUE=URI;X-ADDRESS=dr Snijderstraat 2A\, Oostz
 aan\, 1511 VJ\, Nederland;X-APPLE-RADIUS=100;X-TITLE=Buurtvereniging De Br
 es:geo:0,0
END:VEVENT
BEGIN:VTIMEZONE
TZID:Europe/Amsterdam
X-LIC-LOCATION:Europe/Amsterdam
BEGIN:STANDARD
DTSTART:20241027T020000
TZOFFSETFROM:+0200
TZOFFSETTO:+0100
TZNAME:CET
END:STANDARD
END:VTIMEZONE
END:VCALENDAR