BEGIN:VCALENDAR
VERSION:2.0
PRODID:-//wp-events-plugin.com//7.2.3.1//EN
TZID:Europe/Amsterdam
X-WR-TIMEZONE:Europe/Amsterdam
BEGIN:VEVENT
UID:37762@agenda-zaanstreek.nl
DTSTART;TZID=Europe/Amsterdam:20250322T150000
DTEND;TZID=Europe/Amsterdam:20250322T234500
DTSTAMP:20250313T110702Z
URL:https://agenda-zaanstreek.nl/events/sound-rush-journy-a-celebration-of
 -the-full-spectrum-of-hardstyle/
SUMMARY:Sound Rush Journy - A Celebration of the Full Spectrum of Hardstyle
DESCRIPTION:15:00 – 0:00\n\nA Celebration of the Full Spectrum of Hardsty
 le\n\nThis event is dedicated to showcasing the&nbsp\;entire spectrum of h
 ardstyle. From the uplifting\, euphoric melodies to the raw\, pounding kic
 ks –&nbsp\;everything that defines hardstyle&nbsp\;comes together in one
  unforgettable line-up.\n\nCarefully curated by&nbsp\;Sound Rush\, the lin
 e-up takes you on a&nbsp\;beautiful journey through sound. With each act\,
  the energy will build\, guiding you from the softer\, melodic side to the
  hardest and most intense beats\, elevating you to new heights.\n\nAre you
  ready to embrace the journey?\n\nLINEUP\n\n2AS1&nbsp\;Atmozfears &amp\; S
 ound Rush |&nbsp\;AUDIOTRICZ &amp\; ECSTATIC&nbsp\;Progressive Hardstyle |
 &nbsp\;BIOWEAPON&nbsp\;Time Capsule Album Showcase |&nbsp\;D-STURB&nbsp\;|
 &nbsp\;MELO-3&nbsp\;Ecstatic\, Jay Reeves &amp\; Solstice |&nbsp\;NEILIO &
 amp\; ROUND RUSHERZ&nbsp\;|&nbsp\;PHUTURE NOIZE &amp\; DEVIN WILD&nbsp\;|&
 nbsp\;SOUND RUSH&nbsp\;Journey Through Sound |&nbsp\;Wildstylez Hosted By 
 Villain
CATEGORIES:Muziek
LOCATION:North Sea Venue\, Hemkade 48\, Zaandam\, 1506 PS\, Nederland
X-APPLE-STRUCTURED-LOCATION;VALUE=URI;X-ADDRESS=Hemkade 48\, Zaandam\, 1506
  PS\, Nederland;X-APPLE-RADIUS=100;X-TITLE=North Sea Venue:geo:0,0
END:VEVENT
BEGIN:VTIMEZONE
TZID:Europe/Amsterdam
X-LIC-LOCATION:Europe/Amsterdam
BEGIN:STANDARD
DTSTART:20241027T020000
TZOFFSETFROM:+0200
TZOFFSETTO:+0100
TZNAME:CET
END:STANDARD
END:VTIMEZONE
END:VCALENDAR