BEGIN:VCALENDAR
VERSION:2.0
PRODID:-//wp-events-plugin.com//7.2.3.1//EN
TZID:Europe/Amsterdam
X-WR-TIMEZONE:Europe/Amsterdam
BEGIN:VEVENT
UID:40253@agenda-zaanstreek.nl
DTSTART;TZID=Europe/Amsterdam;VALUE=DATE:20251004
DTEND;TZID=Europe/Amsterdam;VALUE=DATE:20251205
DTSTAMP:20250925T073635Z
URL:https://agenda-zaanstreek.nl/events/solo-expositie-van-georgette-bruel
 -toont-collagekunst-in-saenden/
SUMMARY:Solo-expositie van Georgette Bruel toont collagekunst in Saenden
DESCRIPTION:\nHet is haar eerste solo-expositie. Georgette Bruel toont haar
  collagekunst van zaterdag 4 oktober tot donderdag 4 december bij zorgcent
 rum Saenden\, Nova Zembla 2 (achter Dirk vd Broek).\n\n\n\n\nGeorgette haa
 lt haar afbeeldingen uit tijdschriften en magazines.&nbsp\;(Foto: aangelev
 erd)\n\n&nbsp\;\nUit het werk van Georgette blijkt haar liefde voor papier
 . Alles is met de hand geknipt en met de hand gelijmd\, tot in detail. Som
 s denken mensen dat het met AI is gemaakt of digitaal in elkaar is gezet e
 n kunnen dan niet geloven dat alles van papier is. Toch is het echt zo\, e
 en tijdrovend en precies werk maar het maakt haar altijd weer blij om iets
  nieuws te maken.\nExpositie collagekunst van Georgette Bruel in Saenden\n
 Collages maken is eigenlijk een hele ouderwetse techniek die je niet vaak 
 meer ziet\, maar waar binnen ook veel verschillende stijlen zijn. Georgett
 e haar stijl valt op door kleurgebruik\, hele fijne manier van werken en o
 og voor grappige details. Ze speelt met verhoudingen. In haar werk spelen 
 dieren\, geschiedenis\, eten en mode vaak een rol. Ze vindt het belangrijk
  dat als mensen haar werk zien\, ze eerst even moeten bedenken wat ze prec
 ies zien\, waarna al snel een glimlach volgt. Daar is het haar vooral om t
 e doen\, dat mensen blij worden van haar werk.\nDuurzame materialen\nGeorg
 ette haalt haar afbeeldingen uit tijdschriften en magazines. Ze is heel ki
 eskeurig want kwaliteit van het papier is belangrijk. “Door ervaring wee
 t ik precies welke bladen op het gebied van mode\, geschiedenis\, natuur e
 tc. ik wil hebben. De speurtocht naar mijn favoriete bladen is ontzettend 
 leuk. Ik struin kringloopwinkels door het hele land af en speur op marktpl
 aats naar bladen waarvan sommige ontzettend schaars zijn en dus moeilijk t
 e vinden. Als dat dan lukt dan is het net of ik een schat gevonden heb. Ou
 de tijdschriften zomaar weggooien in de papierbak is dus heel erg zonde\, 
 bij mij krijgen ze absoluut weer een tweede leven.”\n\nEr zijn totaal 60
  werken te zien. De toegang is gratis\, bij binnenkomst graag even melden 
 bij de receptie dat je voor de expositie komt.\n\nMeer info: Collages van 
 papier die verwonderen in Saenden | Al het nieuws uit Zaanstad\n\n
CATEGORIES:Expositie
LOCATION:Zorgcirkel Saenden\, Nova Zembla 2\, Zaandam\, 1506 VD\, Nederland
X-APPLE-STRUCTURED-LOCATION;VALUE=URI;X-ADDRESS=Nova Zembla 2\, Zaandam\, 1
 506 VD\, Nederland;X-APPLE-RADIUS=100;X-TITLE=Zorgcirkel Saenden:geo:0,0
END:VEVENT
BEGIN:VTIMEZONE
TZID:Europe/Amsterdam
X-LIC-LOCATION:Europe/Amsterdam
BEGIN:DAYLIGHT
DTSTART:20250330T030000
TZOFFSETFROM:+0100
TZOFFSETTO:+0200
TZNAME:CEST
END:DAYLIGHT
BEGIN:STANDARD
DTSTART:20251026T020000
TZOFFSETFROM:+0200
TZOFFSETTO:+0100
TZNAME:CET
END:STANDARD
END:VTIMEZONE
END:VCALENDAR