BEGIN:VCALENDAR
VERSION:2.0
PRODID:-//wp-events-plugin.com//7.2.3.1//EN
TZID:Europe/Amsterdam
X-WR-TIMEZONE:Europe/Amsterdam
BEGIN:VEVENT
UID:38577@agenda-zaanstreek.nl
DTSTART;TZID=Europe/Amsterdam:20250517T100000
DTEND;TZID=Europe/Amsterdam:20250706T170000
DTSTAMP:20250508T073111Z
URL:https://agenda-zaanstreek.nl/events/solo-expositie-an-exercise-in-joy-
 van-bas-kosters-in-artzaanstad/
SUMMARY:Solo-expositie An exercise in JOY van Bas Kosters in Artzaanstad
DESCRIPTION:Een antieke\, gemummificeerde teddybeer\, een kleurrijk wandtap
 ijt waarbij hoofden van beren met vele ogen je vragend aankijken tot een v
 rolijk figuur in een ‘handenpak’: de kunst die Bas Kosters van 17 mei 
 tot en met 6 juli presenteert bij Artzaanstad\, Grote Hulzen 11 (Hembrugte
 rrein) is zinnenprikkelend\, uitbundig en bijzonder vrolijk. Dat is ook de
  opzet want de titel van de gratis toegankelijke solo-expositie luidt An e
 xercise in Joy. Duidelijk geen expositie voor ‘zuurkanters’ maar voor 
 Zaankanters die hun humeur een positieve boost willen geven.\n\n\nOok dit 
 'handenpak' dat Bas Kosters ontwierp maakt deel uit van de expositie An ex
 ercise in JOY oftewel een oefening in vreugde.&nbsp\;(Foto: Marc Deurloo)\
 n\nLees meer bij Stadsblad Zaanstad Solo-expositie An exercise in JOY van 
 Bas Kosters in Artzaanstad | Al het nieuws uit Zaanstad\n
CATEGORIES:Expositie
LOCATION:Artzaanstad Kunstuitleen- Galerie\, Grote Hulzen 11\, Zaandam\, 15
 05 RH\, Hembrugterrein\, Nederland
X-APPLE-STRUCTURED-LOCATION;VALUE=URI;X-ADDRESS=Grote Hulzen 11\, Zaandam\,
  1505 RH\, Hembrugterrein\, Nederland;X-APPLE-RADIUS=100;X-TITLE=Artzaanst
 ad Kunstuitleen- Galerie:geo:0,0
END:VEVENT
BEGIN:VTIMEZONE
TZID:Europe/Amsterdam
X-LIC-LOCATION:Europe/Amsterdam
BEGIN:DAYLIGHT
DTSTART:20250330T030000
TZOFFSETFROM:+0100
TZOFFSETTO:+0200
TZNAME:CEST
END:DAYLIGHT
END:VTIMEZONE
END:VCALENDAR