BEGIN:VCALENDAR
VERSION:2.0
PRODID:-//wp-events-plugin.com//7.2.3.1//EN
TZID:Europe/Amsterdam
X-WR-TIMEZONE:Europe/Amsterdam
BEGIN:VEVENT
UID:32154@agenda-zaanstreek.nl
DTSTART;TZID=Europe/Amsterdam:20250125T130000
DTEND;TZID=Europe/Amsterdam:20250125T230000
DTSTAMP:20240403T192048Z
URL:https://agenda-zaanstreek.nl/events/snowbass/
SUMMARY:Snowbass
DESCRIPTION:
CATEGORIES:Muziek
LOCATION:Balkenhaven festival terrein\, Symon Spiersweg\, Zaandam\, 1506\, 
 Nederland
X-APPLE-STRUCTURED-LOCATION;VALUE=URI;X-ADDRESS=Symon Spiersweg\, Zaandam\,
  1506\, Nederland;X-APPLE-RADIUS=100;X-TITLE=Balkenhaven festival terrein:
 geo:0,0
END:VEVENT
BEGIN:VTIMEZONE
TZID:Europe/Amsterdam
X-LIC-LOCATION:Europe/Amsterdam
BEGIN:STANDARD
DTSTART:20241027T020000
TZOFFSETFROM:+0200
TZOFFSETTO:+0100
TZNAME:CET
END:STANDARD
END:VTIMEZONE
END:VCALENDAR