BEGIN:VCALENDAR
VERSION:2.0
PRODID:-//wp-events-plugin.com//7.2.3.1//EN
TZID:Europe/Amsterdam
X-WR-TIMEZONE:Europe/Amsterdam
BEGIN:VEVENT
UID:37132@agenda-zaanstreek.nl
DTSTART;TZID=Europe/Amsterdam:20250223T150000
DTEND;TZID=Europe/Amsterdam:20250223T150000
DTSTAMP:20250220T102344Z
URL:https://agenda-zaanstreek.nl/events/smiegt-live-bij-buurthuis-de-kolk/
SUMMARY:Smiegt live bij buurthuis De Kolk
DESCRIPTION:Elke vierde zondag van de maand vieren we met live muziek! In f
 ebruari komt Smiegt spelen. Smiegt is opgericht in 2022 en bestaat uit vij
 f Zaanse&nbsp\;(akoestische) muzikanten die het eens heel anders wilden do
 en. Ze spelen een afwisselend reptertoire dat varieert van de&nbsp\;Nits&n
 bsp\;tot&nbsp\;Wishbone Ash.\nMooie liedjes verpakt in een akoestisch jasj
 e en gemarineerd in een eigen Smiegt-stijl. Lekker luisteren op zondagmidd
 ag\, en als het nodig is: gooi de voetjes van de vloer!\nDe zaal gaat open
  om 14:30 uur en Smiegt start om 15:00 uur. Een vrijwillige bijdrage in de
  (digitale) pet wordt zeer op prijs gesteld.
CATEGORIES:Muziek
LOCATION:Buurthuis De Kolk\, Klamperstraat 1\, Zaandam\, 1502 VP\, Nederlan
 d
X-APPLE-STRUCTURED-LOCATION;VALUE=URI;X-ADDRESS=Klamperstraat 1\, Zaandam\,
  1502 VP\, Nederland;X-APPLE-RADIUS=100;X-TITLE=Buurthuis De Kolk:geo:0,0
END:VEVENT
BEGIN:VTIMEZONE
TZID:Europe/Amsterdam
X-LIC-LOCATION:Europe/Amsterdam
BEGIN:STANDARD
DTSTART:20241027T020000
TZOFFSETFROM:+0200
TZOFFSETTO:+0100
TZNAME:CET
END:STANDARD
END:VTIMEZONE
END:VCALENDAR