BEGIN:VCALENDAR
VERSION:2.0
PRODID:-//wp-events-plugin.com//7.2.3.1//EN
TZID:Europe/Amsterdam
X-WR-TIMEZONE:Europe/Amsterdam
BEGIN:VEVENT
UID:36345@agenda-zaanstreek.nl
DTSTART;TZID=Europe/Amsterdam:20250215T200000
DTEND;TZID=Europe/Amsterdam:20250215T200000
DTSTAMP:20241212T103104Z
URL:https://agenda-zaanstreek.nl/events/slapstick-scherzo/
SUMMARY:Släpstick Schërzo
DESCRIPTION:&nbsp\;\nIn Schërzo\, Släpsticks eigenzinnige\, wervelende en
  hilarische kijk op klassieke muziek\, is niets wat het lijkt. De vijf muz
 ikale alleskunners nemen je mee op een kolderieke trip langs de meesterwer
 ken van Rossini\, Brahms\, Saint-Saëns\, Gershwin en vele andere illuster
 e componisten. Op onnavolgbare wijze (be)speelt het vijftal de grote klass
 iekers en eert en passant comedy-helden als Victor Borge\, Mini &amp\; Max
 i\, Danny Kaye en Charlie Chaplin.\n\n\n\n\nDe muziekterm ‘scherzo’ (I
 taliaans voor scherts\, grap) staat voor een kort\, levendig stuk muziek\,
  maar Släpstick rekt met&nbsp\;Schërzo&nbsp\;deze definitie graag een ei
 ndje op. Want als fysiek theater en topmuzikanten met veel gevoel voor tim
 ing en humor samenkomen\, kun je een jodelende Schubert in een buikspreekb
 attle met Beethoven\, een snelheidsduivel op de contrabas en 21 meesterwer
 ken in 1 minuut verwachten.\n\nMet de eerdere theatershows&nbsp\;Släpstic
 k&nbsp\;en&nbsp\;The Roaring Twenties&nbsp\;maakten de vijf muzikale clown
 s van Släpstick nationaal en internationaal furore. Uitverkochte zalen va
 n Nederland tot Nieuw-Zeeland\, ovationeel applaus en een prijzenregen war
 en het resultaat\n\n\n\n
CATEGORIES:Theater
LOCATION:Zaantheater\, Nicolaasstraat 3\, Zaandam\, 1506 BB\, Nederland
X-APPLE-STRUCTURED-LOCATION;VALUE=URI;X-ADDRESS=Nicolaasstraat 3\, Zaandam\
 , 1506 BB\, Nederland;X-APPLE-RADIUS=100;X-TITLE=Zaantheater:geo:0,0
END:VEVENT
BEGIN:VTIMEZONE
TZID:Europe/Amsterdam
X-LIC-LOCATION:Europe/Amsterdam
BEGIN:STANDARD
DTSTART:20241027T020000
TZOFFSETFROM:+0200
TZOFFSETTO:+0100
TZNAME:CET
END:STANDARD
END:VTIMEZONE
END:VCALENDAR