BEGIN:VCALENDAR
VERSION:2.0
PRODID:-//wp-events-plugin.com//7.2.3.1//EN
TZID:Europe/Amsterdam
X-WR-TIMEZONE:Europe/Amsterdam
BEGIN:VEVENT
UID:35099@agenda-zaanstreek.nl
DTSTART;TZID=Europe/Amsterdam:20241211T190000
DTEND;TZID=Europe/Amsterdam:20241211T203000
DTSTAMP:20241003T070602Z
URL:https://agenda-zaanstreek.nl/events/sits-zaanse-mode-modeshow-met-lezi
 ng-door-stichting-de-zaanse-kaper/
SUMMARY:Sits & Zaanse mode - Modeshow met lezing door Stichting de Zaanse K
 aper
DESCRIPTION:\n\nWat voor kleding droegen Zaankanters vroeger? Was er sprake
  van trends of had kleding een ander doel? Maak kennis met Zaanse streekdr
 achten aan de hand van 18e en 19e eeuwse topstukken uit onze textielcollec
 tie tijdens de lezing van textielspecialist Inge Bosman.\n\nNa de lezing k
 omt de Zaanse streekdracht tot leven als de Zaanse Kaper hun zelfgemaakte 
 replicakostuums toont\, met toelichting van Inge Bosman.\n\nInge Bosman is
  expert op het gebied van Zaanse streekdracht. Van oorsprong is ze docent 
 textiele werkvormen en geeft freelance les in diverse technieken\, met nam
 e quilten en Zaans stikwerk. Ze is trouw lid van de Kostuumvereniging en e
 en van de oprichters van Stichting de Zaanse Kaper: een historische kostuu
 mgroep die lezingen\, kostuumshows en cursussen geeft. Daarnaast is ze act
 ief voor het Zaans Museum en schrijft blogs voor Modemuze.\n\nDeze avond w
 ordt georganiseerd bij de tentoonstelling Ode aan Nederland van fotograaf 
 Jimmy Nelson in het Zaans Museum.\n\nKosten: €16\,50 inclusief koffie/th
 ee en museumbezoek | museumkaart €5\n\nWanneer: woensdag 11 december 202
 4 van 19:00 tot 20:30 uur\n\nInfo &amp\; tickets: https://zaansmuseum.nl/z
 ien-doen/sits-en-zaanse-mode/
CATEGORIES:Erfgoed,Lezing
LOCATION:Zaans Museum\, Schansend 7\, Zaandam\, 1509 AW\, Nederland
X-APPLE-STRUCTURED-LOCATION;VALUE=URI;X-ADDRESS=Schansend 7\, Zaandam\, 150
 9 AW\, Nederland;X-APPLE-RADIUS=100;X-TITLE=Zaans Museum:geo:0,0
END:VEVENT
BEGIN:VTIMEZONE
TZID:Europe/Amsterdam
X-LIC-LOCATION:Europe/Amsterdam
BEGIN:STANDARD
DTSTART:20241027T020000
TZOFFSETFROM:+0200
TZOFFSETTO:+0100
TZNAME:CET
END:STANDARD
END:VTIMEZONE
END:VCALENDAR