BEGIN:VCALENDAR
VERSION:2.0
PRODID:-//wp-events-plugin.com//7.2.3.1//EN
TZID:Europe/Amsterdam
X-WR-TIMEZONE:Europe/Amsterdam
BEGIN:VEVENT
UID:40767@agenda-zaanstreek.nl
DTSTART;TZID=Europe/Amsterdam:20251129T140000
DTEND;TZID=Europe/Amsterdam:20251129T160000
DTSTAMP:20251127T110248Z
URL:https://agenda-zaanstreek.nl/events/sinterklaas-leest-voor-in-t-reghth
 uys-3x/
SUMMARY:Sinterklaas leest voor in ’t Reghthuys (3x)
DESCRIPTION:Sinterklaas leest voor\nZaterdag 29 november\n’t Reghthuys in
  Westzaan\n\nTijdslots:\n14.00-14.45 uur\n15.00-15.45 uur\n16.00-16.45 uur
 \n\nVoor het voorlezen\, inclusief limonade/koffie en pepernoten\, wordt e
 en vrijwillige bijdrage gevraagd.\nKaartjes reserveren via:&nbsp\;https://
 reghthuyswestzaan.nl/2025/10/22/sinterklaas-leest-voor-in-t-reghthuys/
CATEGORIES:Jeugd
LOCATION:Het Reghthuys Westzaan\, Kerkbuurt 35\, Westzaan\, 1551 AB\, Neder
 land
X-APPLE-STRUCTURED-LOCATION;VALUE=URI;X-ADDRESS=Kerkbuurt 35\, Westzaan\, 1
 551 AB\, Nederland;X-APPLE-RADIUS=100;X-TITLE=Het Reghthuys Westzaan:geo:0
 ,0
END:VEVENT
BEGIN:VTIMEZONE
TZID:Europe/Amsterdam
X-LIC-LOCATION:Europe/Amsterdam
BEGIN:STANDARD
DTSTART:20251026T020000
TZOFFSETFROM:+0200
TZOFFSETTO:+0100
TZNAME:CET
END:STANDARD
END:VTIMEZONE
END:VCALENDAR