BEGIN:VCALENDAR
VERSION:2.0
PRODID:-//wp-events-plugin.com//7.2.3.1//EN
TZID:Europe/Amsterdam
X-WR-TIMEZONE:Europe/Amsterdam
BEGIN:VEVENT
UID:35948@agenda-zaanstreek.nl
DTSTART;TZID=Europe/Amsterdam:20241129T153000
DTEND;TZID=Europe/Amsterdam:20241129T153000
DTSTAMP:20241122T160913Z
URL:https://agenda-zaanstreek.nl/events/sinterklaas-in-de-vuister/
SUMMARY:Sinterklaas in De Vuister
DESCRIPTION:Vrijdagmiddag 29 november om 15.30 uur brengt Sinterklaas ons e
 en bezoek\, hopelijk raakt hij niet verdwaald en kan hij samen met de piet
 en de nieuwe Vuister vinden. Hij wil graag&nbsp\;weten hoeveel kleine en g
 rote&nbsp\;kindjes er komen\, dus hier even een berichtje zou fijn zijn...
CATEGORIES:Jeugd
LOCATION:Buurthuis De Vuister\, Molenwerf 158\, Koog aan de Zaan\, 1541 WR\
 , Nederland
X-APPLE-STRUCTURED-LOCATION;VALUE=URI;X-ADDRESS=Molenwerf 158\, Koog aan de
  Zaan\, 1541 WR\, Nederland;X-APPLE-RADIUS=100;X-TITLE=Buurthuis De Vuiste
 r:geo:0,0
END:VEVENT
BEGIN:VTIMEZONE
TZID:Europe/Amsterdam
X-LIC-LOCATION:Europe/Amsterdam
BEGIN:STANDARD
DTSTART:20241027T020000
TZOFFSETFROM:+0200
TZOFFSETTO:+0100
TZNAME:CET
END:STANDARD
END:VTIMEZONE
END:VCALENDAR