BEGIN:VCALENDAR
VERSION:2.0
PRODID:-//wp-events-plugin.com//7.2.3.1//EN
TZID:Europe/Amsterdam
X-WR-TIMEZONE:Europe/Amsterdam
BEGIN:VEVENT
UID:35942@agenda-zaanstreek.nl
DTSTART;TZID=Europe/Amsterdam:20241204T133000
DTEND;TZID=Europe/Amsterdam:20241204T133000
DTSTAMP:20241122T153822Z
URL:https://agenda-zaanstreek.nl/events/sinterklaas-bij-fluxus/
SUMMARY:Sinterklaas bij FluXus
DESCRIPTION:Vol verwachting klopt ons hart\, want op woensdag 4 december ko
 mt Sinterklaas naar FluXus! Hij brengt een bezoek aan de Pasveerzaal van d
 e Muziekschool. Daarna neemt hij een kijkje in de Verkadefabriek. Sinterkl
 aas is dol op creatieve kinderen! Daarom mogen leerlingen die les hebben b
 ij FluXus voor hem optreden in de Pasveerzaal. Iedereen is van harte welko
 m om te komen kijken naar de optredens\, te snoepen van de pepernoten en d
 e Sint en zijn pieten te ontmoeten.\n\nLocatie:&nbsp\;Pasveerzaal\, FluXus
  Muziekschool\, Westzijde 148\n\nDatum:&nbsp\;woensdag 4 december\n\nTijd:
 &nbsp\;13.30 uur&nbsp\;Sinterklaas aanwezig in de foyer van de Muziekschoo
 l&nbsp\;13.45 uur&nbsp\;Optredens van leerlingen voor de Sint in de Pasvee
 rzaal&nbsp\;16.15 uur&nbsp\;Sint bezoekt FluXus in de Verkadefabriek.&nbsp
 \;\n\nEntree:&nbsp\;Gratis\n\nhttps://www.fluxus.nl/agenda/sinterklaas-bij
 -fluxus/
CATEGORIES:Jeugd
LOCATION:Fluxus\, centrum voor de kunsten - locatie muziek\, Westzijde 148\
 , Zaandam\, 1506 EK\, Nederland
X-APPLE-STRUCTURED-LOCATION;VALUE=URI;X-ADDRESS=Westzijde 148\, Zaandam\, 1
 506 EK\, Nederland;X-APPLE-RADIUS=100;X-TITLE=Fluxus\, centrum voor de kun
 sten - locatie muziek:geo:0,0
END:VEVENT
BEGIN:VTIMEZONE
TZID:Europe/Amsterdam
X-LIC-LOCATION:Europe/Amsterdam
BEGIN:STANDARD
DTSTART:20241027T020000
TZOFFSETFROM:+0200
TZOFFSETTO:+0100
TZNAME:CET
END:STANDARD
END:VTIMEZONE
END:VCALENDAR