BEGIN:VCALENDAR
VERSION:2.0
PRODID:-//wp-events-plugin.com//7.2.3.1//EN
TZID:Europe/Amsterdam
X-WR-TIMEZONE:Europe/Amsterdam
BEGIN:VEVENT
UID:40584@agenda-zaanstreek.nl
DTSTART;TZID=Europe/Amsterdam:20251111T180000
DTEND;TZID=Europe/Amsterdam:20251111T193000
DTSTAMP:20251106T103101Z
URL:https://agenda-zaanstreek.nl/events/sint-maartenliedjes-zingen-in-de-k
 ogerkerk/
SUMMARY:Sint Maartenliedjes zingen in de Kogerkerk
DESCRIPTION:Een Sint Maartenliedje zingen in een kerk onder een prachtige b
 lauwe hemel\, kaarsenkronen en verlichte glas-in-lood ramen? Dat kan in de
  Kogerkerk\, Kerkstraat 14\, op de avond van 11 november.&nbsp\;\nMisschie
 n is Sint Maarten zelf wel aanwezig en vertelt hij over zijn leven. Met Si
 nt Maarten liedjes op het orgel. Natuurlijk is er wat lekkers als je een l
 iedje gezongen hebt. Alle kinderen en volwassenen van harte welkom.&nbsp\;
CATEGORIES:Jeugd
LOCATION:Kogerkerk\, Kerkstraat 14\, Koog aan de Zaan\, 1541 HA\, Nederland
X-APPLE-STRUCTURED-LOCATION;VALUE=URI;X-ADDRESS=Kerkstraat 14\, Koog aan de
  Zaan\, 1541 HA\, Nederland;X-APPLE-RADIUS=100;X-TITLE=Kogerkerk:geo:0,0
END:VEVENT
BEGIN:VTIMEZONE
TZID:Europe/Amsterdam
X-LIC-LOCATION:Europe/Amsterdam
BEGIN:STANDARD
DTSTART:20251026T020000
TZOFFSETFROM:+0200
TZOFFSETTO:+0100
TZNAME:CET
END:STANDARD
END:VTIMEZONE
END:VCALENDAR