BEGIN:VCALENDAR
VERSION:2.0
PRODID:-//wp-events-plugin.com//7.2.3.1//EN
TZID:Europe/Amsterdam
X-WR-TIMEZONE:Europe/Amsterdam
BEGIN:VEVENT
UID:40590@agenda-zaanstreek.nl
DTSTART;TZID=Europe/Amsterdam:20251111T180000
DTEND;TZID=Europe/Amsterdam:20251111T200000
DTSTAMP:20251106T105417Z
URL:https://agenda-zaanstreek.nl/events/sint-maarten-bij-de-burchtkiosk/
SUMMARY:Sint Maarten bij de Burchtkiosk!
DESCRIPTION:\n\n\n\n\n\n\nDinsdag 11 november is het weer Sint Maarten. Kin
 deren lopen in de buurt rond om bij de buren liedjes te zingen en natuurli
 jk om zoveel mogelijk snoep op te halen!\n\nDe Burchtkiosk is voor dit jaa
 r ook een stop om even langs te komen. Ook om even een rustpauze te nemen.
  En als de kinderen mooi zingen\, krijgen zij natuurlijk ook hier een zakj
 e snoep!\n\nVanaf 18:00 tot ongeveer 20:00 is iedereen welkom!\n\nTot dan!
 \n\n&nbsp\;\n\n&nbsp\;\n\n\n\n\nKosten\nGratis\n\nDoelgroep\nIedereen\n\n
CATEGORIES:Jeugd
LOCATION:De Burcht\, De Burcht\, Zaandam\, Nederland
X-APPLE-STRUCTURED-LOCATION;VALUE=URI;X-ADDRESS=De Burcht\, Zaandam\, Neder
 land;X-APPLE-RADIUS=100;X-TITLE=De Burcht:geo:0,0
END:VEVENT
BEGIN:VTIMEZONE
TZID:Europe/Amsterdam
X-LIC-LOCATION:Europe/Amsterdam
BEGIN:STANDARD
DTSTART:20251026T020000
TZOFFSETFROM:+0200
TZOFFSETTO:+0100
TZNAME:CET
END:STANDARD
END:VTIMEZONE
END:VCALENDAR