BEGIN:VCALENDAR
VERSION:2.0
PRODID:-//wp-events-plugin.com//7.2.3.1//EN
TZID:Europe/Amsterdam
X-WR-TIMEZONE:Europe/Amsterdam
BEGIN:VEVENT
UID:37260@agenda-zaanstreek.nl
DTSTART;TZID=Europe/Amsterdam:20250212T200000
DTEND;TZID=Europe/Amsterdam:20250212T200000
DTSTAMP:20250206T145444Z
URL:https://agenda-zaanstreek.nl/events/sing-in-zaans-interkerkelijk-manne
 nkoor-o-l-v-paul-waerts/
SUMMARY:Sing-In Zaans Interkerkelijk Mannenkoor o.l.v. Paul Waerts
DESCRIPTION:Op woensdagavond 12 februari 2025\,\nSing-In Zaans Interkerkeli
 jk Mannenkoor o.l.v. Paul Waerts\nKerkbuurt 37\, 1551 AB Westzaan. Aanvang
  20:00 uur.\nTevens de opening concertreeks orgelconcerten\nOrgel: Paul Wa
 erts\nPiano: Laurence Fierens\nToegang: gratis !!
CATEGORIES:Koren
LOCATION:Grote Kerk Westzaan\, Kerkbuurt 37\, Westzaan\, 1551 AB\, Nederlan
 d
X-APPLE-STRUCTURED-LOCATION;VALUE=URI;X-ADDRESS=Kerkbuurt 37\, Westzaan\, 1
 551 AB\, Nederland;X-APPLE-RADIUS=100;X-TITLE=Grote Kerk Westzaan:geo:0,0
END:VEVENT
BEGIN:VTIMEZONE
TZID:Europe/Amsterdam
X-LIC-LOCATION:Europe/Amsterdam
BEGIN:STANDARD
DTSTART:20241027T020000
TZOFFSETFROM:+0200
TZOFFSETTO:+0100
TZNAME:CET
END:STANDARD
END:VTIMEZONE
END:VCALENDAR