BEGIN:VCALENDAR
VERSION:2.0
PRODID:-//wp-events-plugin.com//7.2.3.1//EN
TZID:Europe/Amsterdam
X-WR-TIMEZONE:Europe/Amsterdam
BEGIN:VEVENT
UID:37462@agenda-zaanstreek.nl
DTSTART;TZID=Europe/Amsterdam:20251220T200000
DTEND;TZID=Europe/Amsterdam:20251220T200000
DTSTAMP:20250226T103331Z
URL:https://agenda-zaanstreek.nl/events/sinatra-by-douglas-bosco/
SUMMARY:Sinatra by Douglas & BOSCO
DESCRIPTION:\n\n\n\n\n\n\n\n\n\n\n\n\n\n\n\n\n\n\n\n\n\n\n\n\nNa een legend
 arisch optreden in 1977 keerde Frank Sinatra op 14 augustus 2024 een klein
  beetje terug in Het Concertgebouw in Amsterdam met ‘Sinatra by Douglas 
 &amp\; BOSCO’. Een tot de nok toe uitverkocht concert&nbsp\;bracht het v
 oltallige publiek in extase.\n\nZanger Peter Douglas is een geliefde verto
 lker van de wereldhits van de beroemde zanger Sinatra. Begeleid door het B
 OSCO Jazz &amp\; Pop Orchestra deed Douglas in het voorjaar van 2024 mee a
 an het SBS6-televisieprogramma&nbsp\;The Tribute: Battle of the Bands. Met
  een tribute aan Frank Sinatra behaalde hij een vierde plek in de finale. 
 Daarna verzorgde hij met zijn orkest de opening van de volledig uitverkoch
 te finale in de Ziggo Dome in Amsterdam.\n\nVerwacht een avond vol met gou
 den hits als&nbsp\;My Way\,&nbsp\;Fly Me to the Moon&nbsp\;en&nbsp\;New Yo
 rk\, New York.&nbsp\;Mis de kans niet om een onvergetelijke show met Peter
  Douglas te beleven!\n\nDit is een zitconcert.\n\nDeuren open: 19.00 uur\n
 Aanvang: 20.00 uur\n\nTickets: € 37\,50 (+ € 2\,00 reserveringskosten)
 \nAan de deur: € 39\,50\n\n\n\n\n\n\n\n\n\n\n\nKoop tickets\n\n\n\n\n\n\
 n\n\n\n\n&nbsp\;\n\n\n\n\n\n\n\n\n\n\n\n\n\n\n&nbsp\;\n\n\n\n\n\n
CATEGORIES:Muziek
LOCATION:Cultureel Centrum Bullekerk (Westzijderkerk)\, Westzijde 75\, Zaan
 dam\, 1506 ED\, Nederland
X-APPLE-STRUCTURED-LOCATION;VALUE=URI;X-ADDRESS=Westzijde 75\, Zaandam\, 15
 06 ED\, Nederland;X-APPLE-RADIUS=100;X-TITLE=Cultureel Centrum Bullekerk (
 Westzijderkerk):geo:0,0
END:VEVENT
BEGIN:VTIMEZONE
TZID:Europe/Amsterdam
X-LIC-LOCATION:Europe/Amsterdam
BEGIN:STANDARD
DTSTART:20251026T020000
TZOFFSETFROM:+0200
TZOFFSETTO:+0100
TZNAME:CET
END:STANDARD
END:VTIMEZONE
END:VCALENDAR