BEGIN:VCALENDAR
VERSION:2.0
PRODID:-//wp-events-plugin.com//7.2.3.1//EN
TZID:Europe/Amsterdam
X-WR-TIMEZONE:Europe/Amsterdam
BEGIN:VEVENT
UID:35911@agenda-zaanstreek.nl
DTSTART;TZID=Europe/Amsterdam:20241123T203000
DTEND;TZID=Europe/Amsterdam:20241123T203000
DTSTAMP:20241121T101320Z
URL:https://agenda-zaanstreek.nl/events/silvester-en-berit-hij-zei-zij-zei
 /
SUMMARY:Silvester en Berit - Hij zei/zij zei
DESCRIPTION:Strijd der seksen in pittige dialogen en oergeestige sketches\n
 \n‘Hij zei/ Zij zei’ is een cabaretvoorstelling waarin een man en een 
 vrouw verbaal hun verschillen op hilarische wijze bevechten. Soms in pitti
 ge dialogen\, vaker nog in oergeestige stand-up. Wees getuige van deze str
 ijd der seksen\, waarin de spelers op zoek gaan naar begrip\, verbinding e
 n elkaars perspectief. Grappig\, nodig\, belangrijk en helemaal van nu.\n\
 nSpeciaal voor deze voorstelling bundelen Berit Companjen en Silvester Zwa
 neveld hun unieke talenten. Of dat een goed idee is? Silvester vindt van w
 el\, Berit haar mening is niet gevraagd. Een voorstelling met een ongezond
 e dosis humor.\n\nBestel uw kaarten hier &gt\;
CATEGORIES:Cabaret
LOCATION:Dorpshuis Oostknollendam\, Dorpsstraat 95\, Oostknollendam\, 1534 
 NE\, Wormer\, Nederland
X-APPLE-STRUCTURED-LOCATION;VALUE=URI;X-ADDRESS=Dorpsstraat 95\, Oostknolle
 ndam\, 1534 NE\, Wormer\, Nederland;X-APPLE-RADIUS=100;X-TITLE=Dorpshuis O
 ostknollendam:geo:0,0
END:VEVENT
BEGIN:VTIMEZONE
TZID:Europe/Amsterdam
X-LIC-LOCATION:Europe/Amsterdam
BEGIN:STANDARD
DTSTART:20241027T020000
TZOFFSETFROM:+0200
TZOFFSETTO:+0100
TZNAME:CET
END:STANDARD
END:VTIMEZONE
END:VCALENDAR