BEGIN:VCALENDAR
VERSION:2.0
PRODID:-//wp-events-plugin.com//7.2.3.1//EN
TZID:Europe/Amsterdam
X-WR-TIMEZONE:Europe/Amsterdam
BEGIN:VEVENT
UID:39083@agenda-zaanstreek.nl
DTSTART;TZID=Europe/Amsterdam:20250621T200000
DTEND;TZID=Europe/Amsterdam:20250621T234500
DTSTAMP:20250605T094205Z
URL:https://agenda-zaanstreek.nl/events/silent-disco/
SUMMARY:Silent Disco
DESCRIPTION:Silent disco is een dans concept waarbij het feestende publiek 
 met elk een draadloze koptelefoon kan meeluisteren en meedoen met een DJ o
 f zelfs een live band.\n\n\nSilent ervaring\nAls je geen koptelefoon op he
 bt\, zie je iedereen dansen en swingen en vaak ook gezellig meezingen en s
 chreeuwen met de DJ of band. Je snapt even niet waarom ze dansen hoe ze da
 nsen en roepen wat ze roepen.&nbsp\;Dit gegeven alleen al kan natuurlijk g
 rappige taferelen opleveren\, zowel voor de omstanders als de dansenden.&n
 bsp\;Pak je een koptelefoon dan kan je ervaren wat de rest al meemaakt en 
 hoor je er met een koptelefoon meteen bij en kan je lekker meedoen met het
  feest!\nEcht stil?\nJa en nee… Je hoort zonder koptelefoon niets van de
  DJ of de live band. Maar of het lukt om het publiek van een paar honderd 
 niet te laten meezingen\, springen en schreeuwen? Mede hierdoor is een Sil
 ent DJ / Silent Band een werkelijk uniek zinderende ervaring voor elk.\n\n
CATEGORIES:Muziek
LOCATION:Tapperij De Verwachting\, Dorpsstraat 584\, Assendelft\, 1566 EK\,
  Nederland
X-APPLE-STRUCTURED-LOCATION;VALUE=URI;X-ADDRESS=Dorpsstraat 584\, Assendelf
 t\, 1566 EK\, Nederland;X-APPLE-RADIUS=100;X-TITLE=Tapperij De Verwachting
 :geo:0,0
END:VEVENT
BEGIN:VTIMEZONE
TZID:Europe/Amsterdam
X-LIC-LOCATION:Europe/Amsterdam
BEGIN:DAYLIGHT
DTSTART:20250330T030000
TZOFFSETFROM:+0100
TZOFFSETTO:+0200
TZNAME:CEST
END:DAYLIGHT
END:VTIMEZONE
END:VCALENDAR