BEGIN:VCALENDAR
VERSION:2.0
PRODID:-//wp-events-plugin.com//7.2.3.1//EN
TZID:Europe/Amsterdam
X-WR-TIMEZONE:Europe/Amsterdam
BEGIN:VEVENT
UID:37880@agenda-zaanstreek.nl
DTSTART;TZID=Europe/Amsterdam:20250614T200000
DTEND;TZID=Europe/Amsterdam:20250614T200000
DTSTAMP:20250324T204436Z
URL:https://agenda-zaanstreek.nl/events/showtime-met-lef/
SUMMARY:Showtime met LEF!
DESCRIPTION:&nbsp\;\n\nVerwacht een betoverende avond vol muzikale hoogtepu
 nten wanneer Het Zaans Showorkest samen met Popkoor LEF! de bühne betreed
 t.\n\n\nDetails\n\n\nzaterdag 14 jun 2025\, 20:00 - zaterdag 14 jun 2025\,
  22:15\nDit unieke concert belooft een mix van klassieke showmuziek en mod
 erne popsongs\, uitgevoerd door getalenteerde muzikanten en zangeressen.\n
 \n\nHet Zaans Showorkest staat bekend om haar swingende shows in het Zaant
 heater en haar concerten in de Bullekerk en staat al sinds 2013 o.l.v. dir
 igent Henk Ummels.\n\n\nPopkoor LEF! is een lokaal koor dat repeteert in W
 estzaan en o.l.v. dirigent Louis van Dijk zingen ze meerstemmige en origin
 ele arrangementen\, maken ze theatervoorstellingen\, deden ze mee aan het 
 NPO programma ‘Zing!’ en zetten zij Project FAB! op\, een popkoor voor
  jongeren tussen 14 en 20 jaar oud. Waarom je dit niet wilt missen? Dit co
 ncert is niet alleen een kans om geweldige muziek te horen\, maar ook een 
 gelegenheid om lokale talenten te steunen. Kom genieten van een avond vol 
 zang\, instrumentale pracht en een warme sfeer!\n\n\nHet concert zal worde
 n gepresenteerd door Marco Hage\, met als verrassing………tja\, daar ka
 n je alleen achter komen als je komt.\n\n\nZaterdag 14 juni 2025 20.00 uur
  in de Bullekerk in Zaandam\n\n\nKaartverkoop: https://het-zaans-showorkes
 t.weticket.io/showtime-met-lef\n
CATEGORIES:Muziek
LOCATION:Cultureel Centrum Bullekerk (Westzijderkerk)\, Westzijde 75\, Zaan
 dam\, 1506 ED\, Nederland
X-APPLE-STRUCTURED-LOCATION;VALUE=URI;X-ADDRESS=Westzijde 75\, Zaandam\, 15
 06 ED\, Nederland;X-APPLE-RADIUS=100;X-TITLE=Cultureel Centrum Bullekerk (
 Westzijderkerk):geo:0,0
END:VEVENT
BEGIN:VTIMEZONE
TZID:Europe/Amsterdam
X-LIC-LOCATION:Europe/Amsterdam
BEGIN:DAYLIGHT
DTSTART:20250330T030000
TZOFFSETFROM:+0100
TZOFFSETTO:+0200
TZNAME:CEST
END:DAYLIGHT
END:VTIMEZONE
END:VCALENDAR