BEGIN:VCALENDAR
VERSION:2.0
PRODID:-//wp-events-plugin.com//7.2.3.1//EN
TZID:Europe/Amsterdam
X-WR-TIMEZONE:Europe/Amsterdam
BEGIN:VEVENT
UID:38607@agenda-zaanstreek.nl
DTSTART;TZID=Europe/Amsterdam:20250515T193000
DTEND;TZID=Europe/Amsterdam:20250515T204500
DTSTAMP:20250508T095040Z
URL:https://agenda-zaanstreek.nl/events/shanmuga-sundaram-danst-rasanubhaw
 a/
SUMMARY:Shanmuga Sundaram danst Rasānubhawa
DESCRIPTION:\n\n\n\n\n\n\n\n\n\n\n\nBharata Natyam (Zuid-Indiase Klassieke 
 Tempeldans) voorstelling. De Danser verdiept zich in de talloze tinten van
  menselijke emoties\, door middel van de kunst van Bharata natyam. Deze vo
 orstelling is gewijd aan de Vazhuvoor Sampradaya waarin Shanmuga op toegew
 ijde manier de composities van zijn Gurus . KJ Sarasa en Padma Shri Chitra
  Visweswaran zal demonstreren.\n\nGuru Shanmuga Sundaram is een gerenomeer
 de Bharata Natyam danser\, gevestigd in Chennai\, en staat bekend om zijn 
 mooie danshoudingen en ingetogen abhinaya. Hij geniet internationale erken
 ning en heeft wereldwijd opgetreden.\nNaast zijn werk als dansleraar wordt
  hij ook regelmatig gevraagd vanwege zijn expertise met de nattuvangam . R
 ecentelijk heeft hij aan populariteit gewonnen vanwege zijn succesvolle we
 rk\, dansles te geven aan de transgendergemeenschap in Chennai.\nHij was e
 en leerling van wijlen goeroe KJ Sarasa en presenteert al meer dan tien ja
 ar een populair jaarlijks dansfestival in Chennai gewijd aan zijn goeroe.\
 nDe afgelopen vijf jaar is Shanmuga onder begeleiding van goeroe Padma Sri
 &nbsp\; Chitra Visweswaran\, wat een nieuwe dimensie heeft toegevoegd en z
 ijn ontwikkeling als kunstenaar verder heeft versterkt.\n\n\n\n\n\n\n\n
CATEGORIES:Dans
LOCATION:Zaans Cultuurhuis\, Cornelis van Uitgeeststraat 2\, Zaandam\, 1508
  EH\, Nederland
X-APPLE-STRUCTURED-LOCATION;VALUE=URI;X-ADDRESS=Cornelis van Uitgeeststraat
  2\, Zaandam\, 1508 EH\, Nederland;X-APPLE-RADIUS=100;X-TITLE=Zaans Cultuu
 rhuis:geo:0,0
END:VEVENT
BEGIN:VTIMEZONE
TZID:Europe/Amsterdam
X-LIC-LOCATION:Europe/Amsterdam
BEGIN:DAYLIGHT
DTSTART:20250330T030000
TZOFFSETFROM:+0100
TZOFFSETTO:+0200
TZNAME:CEST
END:DAYLIGHT
END:VTIMEZONE
END:VCALENDAR