BEGIN:VCALENDAR
VERSION:2.0
PRODID:-//wp-events-plugin.com//7.2.3.1//EN
TZID:Europe/Amsterdam
X-WR-TIMEZONE:Europe/Amsterdam
BEGIN:VEVENT
UID:40844@agenda-zaanstreek.nl
DTSTART;TZID=Europe/Amsterdam:20251212T130000
DTEND;TZID=Europe/Amsterdam:20251212T153000
DTSTAMP:20251207T105149Z
URL:https://agenda-zaanstreek.nl/events/seniorenbingo/
SUMMARY:Seniorenbingo
DESCRIPTION:Seniorenvereniging Zaanstreek organiseert in samenwerking met B
 uurtcentrum De Vuister op de eerste vrijdag van de maand een Seniorenbingo
  voor leden en niet-leden. De gezelligheid staat voorop\, de kosten zijn l
 aag en er zijn vele prijsjes. Aanmelden is niet noodzakelijk.\n\n&nbsp\;\n
 \n\n\nDag/Tijd\nvrijdag\, 13.30-15.30 uur\n5 september\, 10 oktober\, 7 no
 vember\, 5 december\n\n\nLocatie\nOntmoetingsruimte\n\n\nEerste keer\nvrij
 dag 5 september 2025\n\n\nKosten\nLeden € 3\,50\, niet-leden € 4\,50 p
 er bordje (exclusief koffie of thee)\n\n\nOrganisatie\nCorrie Meiling\n\n\
 nContact\nsenzaan@seniorenverenigingzaanstreek.nl\ncornelia37meiling@gmail
 .com\n\n\nInschrijven\nniet nodig\, vrije inloop\n\n\n
CATEGORIES:Spellen (bingo-bridge-etc)
LOCATION:Buurthuis De Vuister\, Molenwerf 158\, Koog aan de Zaan\, 1541 WR\
 , Nederland
X-APPLE-STRUCTURED-LOCATION;VALUE=URI;X-ADDRESS=Molenwerf 158\, Koog aan de
  Zaan\, 1541 WR\, Nederland;X-APPLE-RADIUS=100;X-TITLE=Buurthuis De Vuiste
 r:geo:0,0
END:VEVENT
BEGIN:VTIMEZONE
TZID:Europe/Amsterdam
X-LIC-LOCATION:Europe/Amsterdam
BEGIN:STANDARD
DTSTART:20251026T020000
TZOFFSETFROM:+0200
TZOFFSETTO:+0100
TZNAME:CET
END:STANDARD
END:VTIMEZONE
END:VCALENDAR