BEGIN:VCALENDAR
VERSION:2.0
PRODID:-//wp-events-plugin.com//7.2.3.1//EN
TZID:Europe/Amsterdam
X-WR-TIMEZONE:Europe/Amsterdam
BEGIN:VEVENT
UID:39142@agenda-zaanstreek.nl
DTSTART;TZID=Europe/Amsterdam:20250628T200000
DTEND;TZID=Europe/Amsterdam:20250628T200000
DTSTAMP:20250612T095027Z
URL:https://agenda-zaanstreek.nl/events/seksuele-diversiteit-in-het-dieren
 rijk-charlotte-vermeulen-en-maya-van-as/
SUMMARY:Seksuele diversiteit in het dierenrijk - Charlotte Vermeulen en May
 a van As
DESCRIPTION:\n\n\nInterseksuele kangoeroes\, homoseksueel ouderschap\, ping
 uïntrio’s en parende leeuwinnen. Stap in de veelkleurige wereld van sek
 suele diversiteit in het dierenrijk in dit interactieve theatercollege van
  emeritus ARTIS-bioloog Charlotte Vermeulen. Zij werkte meer dan 30 jaar a
 ls huisbioloog voor ARTIS en deed onderzoek naar seksueel divers gedrag in
  de natuur. Ze wordt bijgestaan door cabaretier Maya van As\, die het publ
 iek op een humoristische wijze meeneemt door dit intrigerende onderwerp. E
 en avond ontdekken hoe we ons als mensen kunnen laten inspireren door de n
 atuur.\n\n\n\n\n\n\nKom te weten hoe onze verwachtingen vaak botsen met de
  realiteit in de natuur. Verschillende seksuele voorkeuren\, het juist nie
 t hebben van seks en geslachtsveranderingen: het komt allemaal voor in het
  dierenrijk. Zo is homoseksueel gedrag al onder 1.500 soorten vogels en zo
 ogdieren waargenomen en kunnen sommige vissen van man\, vrouw worden en we
 er terug. Kortom: natuur is queer en queer is natuurlijk.\n\n\nLees meer\n
 \n\n\n\nPrijzen\n\n\n\n\n\nExtra informatie:\n\n\n\n\n\nza28 jun 202520.00
 Kleine ZaalBestel\n\n
CATEGORIES:Theatercolleges &amp; Salons
LOCATION:Zaantheater\, Nicolaasstraat 3\, Zaandam\, 1506 BB\, Nederland
X-APPLE-STRUCTURED-LOCATION;VALUE=URI;X-ADDRESS=Nicolaasstraat 3\, Zaandam\
 , 1506 BB\, Nederland;X-APPLE-RADIUS=100;X-TITLE=Zaantheater:geo:0,0
END:VEVENT
BEGIN:VTIMEZONE
TZID:Europe/Amsterdam
X-LIC-LOCATION:Europe/Amsterdam
BEGIN:DAYLIGHT
DTSTART:20250330T030000
TZOFFSETFROM:+0100
TZOFFSETTO:+0200
TZNAME:CEST
END:DAYLIGHT
END:VTIMEZONE
END:VCALENDAR