BEGIN:VCALENDAR
VERSION:2.0
PRODID:-//wp-events-plugin.com//7.2.3.1//EN
TZID:Europe/Amsterdam
X-WR-TIMEZONE:Europe/Amsterdam
BEGIN:VEVENT
UID:38847@agenda-zaanstreek.nl
DTSTART;TZID=Europe/Amsterdam:20250531T140000
DTEND;TZID=Europe/Amsterdam:20250531T140000
DTSTAMP:20250522T100859Z
URL:https://agenda-zaanstreek.nl/events/sdc-events-backstage-2x/
SUMMARY:SDC Events - Backstage (2x)
DESCRIPTION:\n\nDe enige show waarin jij zelf achter de schermen stapt!&nbs
 p\;\nAltijd al willen weten wat er écht gebeurt achter de coulissen? Dit 
 is je kans! In deze interactieve show beleef je de backstage-ervaring van 
 dichtbij.\n\n\n\n\nVoel de spanning terwijl de dansers hun pasjes nog éé
 n keer doornemen\, haastige kostuumwissels uitvoeren en zich klaarmaken vo
 or hun grote moment op het podium. De adrenaline\, de chaos\, de opwinding
  – jij beleeft het allemaal! Maar let op... soms gebeuren er backstage d
 ingen die nét iets anders lopen dan gepland. Wie weet heb jij wel een gro
 tere rol in de show dan je nu denkt! \n\nBereid je voor op een spectaculai
 re avond vol dans\, entertainment en verrassingen. Een unieke mix van show
 \, spektakel en fun voor iedereen!\n\nMis het niet en ervaar de magie van 
 BACKSTAGE!\n\n\n\n\n\nPrijzen\n\n\n\n\n\n\nza31 mei 202514.00Albert Heijnz
 aalBestel\nza31 mei 202519.00Albert HeijnzaalLaatste kans\n\n
CATEGORIES:Dans
LOCATION:Zaantheater\, Nicolaasstraat 3\, Zaandam\, 1506 BB\, Nederland
X-APPLE-STRUCTURED-LOCATION;VALUE=URI;X-ADDRESS=Nicolaasstraat 3\, Zaandam\
 , 1506 BB\, Nederland;X-APPLE-RADIUS=100;X-TITLE=Zaantheater:geo:0,0
END:VEVENT
BEGIN:VTIMEZONE
TZID:Europe/Amsterdam
X-LIC-LOCATION:Europe/Amsterdam
BEGIN:DAYLIGHT
DTSTART:20250330T030000
TZOFFSETFROM:+0100
TZOFFSETTO:+0200
TZNAME:CEST
END:DAYLIGHT
END:VTIMEZONE
END:VCALENDAR