BEGIN:VCALENDAR
VERSION:2.0
PRODID:-//wp-events-plugin.com//7.2.3.1//EN
TZID:Europe/Amsterdam
X-WR-TIMEZONE:Europe/Amsterdam
BEGIN:VEVENT
UID:37763@agenda-zaanstreek.nl
DTSTART;TZID=Europe/Amsterdam:20250319T203000
DTEND;TZID=Europe/Amsterdam:20250319T203000
DTSTAMP:20250313T111808Z
URL:https://agenda-zaanstreek.nl/events/schuldig-kind-het-nationale-theate
 r/
SUMMARY:Schuldig kind - Het Nationale Theater
DESCRIPTION:\n\nwo19 mrt 202520.30Kleine ZaalBestel\n\n\nSchuldig kind is g
 ebaseerd op het werk van schrijver\, dichter en kunstenaar Ted van Lieshou
 t. Als elfjarige had hij een relatie met een volwassen man. In zijn werk b
 likt hij al jaren terug op die relatie. Met eerlijkheid\, zelfspot en brut
 aliteit ziet Ted hoe hijzelf én de maatschappij steeds weer veranderen. A
 cteurs Bram Coopmans\, Florian Myjer en Sander Plukaard spelen ieder Ted e
 n alle mensen die voorbijkomen.\n\n\n\n\nHet verhaal\nDe jonge Ted hunkert
  naar vriendschap en liefde. Dat leidt op zijn elfde tot een relatie met e
 en volwassen man. Zodra dit ontspoort breekt Ted het af\, om een paar jaar
  later bij andere volwassen mannen opnieuw de liefde te zoeken. Gedurende 
 de rest van zijn leven blikt hij steeds weer terug op zijn tienertijd. Was
  de relatie met zijn ‘meneer’ liefde of misbruik? Wanneer ben je slach
 toffer? En hoe onschuldig was hij zelf als kind? De elfjarige Ted\, de tie
 ner\, de vijftiger\, de zestiger: allen hebben andere antwoorden. En allen
  willen ze maar één ding: regie houden over hun eigen leven.\n\nOver (on
 )schuld en verantwoordelijkheid\nSchuldig kind vertelt een genuanceerd ver
 haal over seksuele ontwikkeling\, misbruik en hoe je de regie kunt bewaren
  in een veranderende wereld. Regisseur Belle van Heerikhuizen: “Voor mij
  gaat Schuldig kind over een zoektocht naar liefde\, ten koste van jezelf.
  Het is een onderzoek naar nieuwsgierigheid\, genot\, schuld en schaamte. 
 Ik hoop op een veel genuanceerder gesprek over misbruik en daderschap\, om
 dat de slachtoffers daar baat bij hebben. De wereld is niet zwart-wit en s
 eksualiteit al helemaal niet.”\n\n\n\n\n\n\n\nPrijzen\n\n\n
CATEGORIES:Theater,Toneel
LOCATION:Zaantheater\, Nicolaasstraat 3\, Zaandam\, 1506 BB\, Nederland
X-APPLE-STRUCTURED-LOCATION;VALUE=URI;X-ADDRESS=Nicolaasstraat 3\, Zaandam\
 , 1506 BB\, Nederland;X-APPLE-RADIUS=100;X-TITLE=Zaantheater:geo:0,0
END:VEVENT
BEGIN:VTIMEZONE
TZID:Europe/Amsterdam
X-LIC-LOCATION:Europe/Amsterdam
BEGIN:STANDARD
DTSTART:20241027T020000
TZOFFSETFROM:+0200
TZOFFSETTO:+0100
TZNAME:CET
END:STANDARD
END:VTIMEZONE
END:VCALENDAR