BEGIN:VCALENDAR
VERSION:2.0
PRODID:-//wp-events-plugin.com//7.2.3.1//EN
TZID:Europe/Amsterdam
X-WR-TIMEZONE:Europe/Amsterdam
BEGIN:VEVENT
UID:35949@agenda-zaanstreek.nl
DTSTART;TZID=Europe/Amsterdam:20241210T093000
DTEND;TZID=Europe/Amsterdam:20241210T170000
DTSTAMP:20241122T200432Z
URL:https://agenda-zaanstreek.nl/events/schrijfacties-amnesty-op-dag-van-d
 e-mensenrechten/
SUMMARY:Schrijfacties Amnesty op dag van de mensenrechten
DESCRIPTION:Op diverse plekken in de Zaanstreek en Waterland&nbsp\; wordt o
 p dinsdag 10 december\, de internationale dag van de mensenrechten\, de sc
 hrijfactie ’Write for rights’ gehouden.\nDe lokale takken van Amnesty 
 International nodigen belangstellenden uit om brieven te schrijven aan ’
 overheden en organisaties die het niet zo nauw nemen met de mensenrechten
 ’.\nIeder jaar selecteert Amnesty tien schrijnende gevallen van onrechtv
 aardige behandeling van aangeklaagden en veroordeelden. Deze komen aan het
  licht na gedegen onderzoek door Amnesty.\nDe schrijfactie in Zaandam is v
 an 9.30 tot 17 uur in het stadhuis. Iedereen is welkom. Ook leden van het 
 college en de raad schrijven mee. Koe en thee met wat lekkers zijn gratis.
 \n\nBron: Noordhollands Dagblad
CATEGORIES:Sociaal
LOCATION:Gemeentehuis Zaanstad\, Stadhuisplein 100\, Zaandam\, 1506 MZ\, Ne
 derland
X-APPLE-STRUCTURED-LOCATION;VALUE=URI;X-ADDRESS=Stadhuisplein 100\, Zaandam
 \, 1506 MZ\, Nederland;X-APPLE-RADIUS=100;X-TITLE=Gemeentehuis Zaanstad:ge
 o:0,0
END:VEVENT
BEGIN:VTIMEZONE
TZID:Europe/Amsterdam
X-LIC-LOCATION:Europe/Amsterdam
BEGIN:STANDARD
DTSTART:20241027T020000
TZOFFSETFROM:+0200
TZOFFSETTO:+0100
TZNAME:CET
END:STANDARD
END:VTIMEZONE
END:VCALENDAR