BEGIN:VCALENDAR
VERSION:2.0
PRODID:-//wp-events-plugin.com//7.2.3.1//EN
TZID:Europe/Amsterdam
X-WR-TIMEZONE:Europe/Amsterdam
BEGIN:VEVENT
UID:40870@agenda-zaanstreek.nl
DTSTART;TZID=Europe/Amsterdam:20251214T150000
DTEND;TZID=Europe/Amsterdam:20251214T150000
DTSTAMP:20251211T101441Z
URL:https://agenda-zaanstreek.nl/events/santas-rennen-voor-als-op-zaanse-s
 chans/
SUMMARY:Santa’s rennen voor ALS op Zaanse Schans
DESCRIPTION:Tientallen kerstmannen rennen zondag 14 december over de Zaanse
  Schans voor het goede doel. De Santa Run haalt geld op voor stichting ‘
 ALS op de weg’.\n\n\nTientallen kerstmannen rennen zondag 14 december ov
 er de Zaanse Schans voor het goede doel.&nbsp\;(Foto: aangeleverd)\n\n\nBi
 j voetbalvereniging ZVV verzamelen zich families\, vrienden en hardlopers 
 in kerstmanpakken voor een gezellige middag. Om 14.45 uur begint de warmin
 g-up\, gevolgd door het startsignaal om 15.00 uur.\nTwee afstanden beschik
 baar\nDeelnemers kunnen kiezen uit een 3\,5 kilometer Family Run of een 7 
 kilometer hardlooproute. Toeschouwers moedigen de Santa’s aan langs de k
 ant.\n\nRond 16.00 uur keren de lopers terug voor een feest met muziek\, h
 apjes en drankjes. Iedereen krijgt een medaille. Er is een levende fruitma
 chine en overal worden foto’s gemaakt.\nCouplebedden voor stichting\nDe 
 organisatie hoopt rond 16.30 uur één of twee couplebedden te kunnen aanb
 ieden aan stichting "ALS op de weg".\nInschrijving nog mogelijk\nTickets k
 osten 17\,50 euro voor volwassenen en 10 euro voor kinderen tot 12 jaar. D
 it is inclusief kerstmanpak\, medaille en bijdrage aan het goede doel.\n\n
 Meer informatie en inschrijven via&nbsp\;www.zaandijk.rotarysantarun.nl.\n
 \n
CATEGORIES:Recreatiesport
LOCATION:ZVV Zaandijk\, Diederick Sonoyweg 20\, Zaandam\, 1509 BR\, Nederla
 nd
X-APPLE-STRUCTURED-LOCATION;VALUE=URI;X-ADDRESS=Diederick Sonoyweg 20\, Zaa
 ndam\, 1509 BR\, Nederland;X-APPLE-RADIUS=100;X-TITLE=ZVV Zaandijk:geo:0,0
END:VEVENT
BEGIN:VTIMEZONE
TZID:Europe/Amsterdam
X-LIC-LOCATION:Europe/Amsterdam
BEGIN:STANDARD
DTSTART:20251026T020000
TZOFFSETFROM:+0200
TZOFFSETTO:+0100
TZNAME:CET
END:STANDARD
END:VTIMEZONE
END:VCALENDAR