BEGIN:VCALENDAR
VERSION:2.0
PRODID:-//wp-events-plugin.com//7.2.3.1//EN
TZID:Europe/Amsterdam
X-WR-TIMEZONE:Europe/Amsterdam
BEGIN:VEVENT
UID:36485@agenda-zaanstreek.nl
DTSTART;TZID=Europe/Amsterdam:20241222T143000
DTEND;TZID=Europe/Amsterdam:20241222T143000
DTSTAMP:20241219T090158Z
URL:https://agenda-zaanstreek.nl/events/sandra-mooy-in-pennemes-2/
SUMMARY:Sandra Mooy in Mennistenerf
DESCRIPTION:Feest van herkenning\nZangeres Sandra Mooy treedt dit weekend m
 aar liefst twee keer op in Zaandam. Ze geeft zowel in Pennemes als in Menn
 istenerf een concert. Je kunt komen genieten van een muzikale reis langs k
 lassiekers uit binnen- en buitenland. Kun je vandaag niet? Dan is er morge
 n nog een kans!\n\nZaal open: 13.45 uur. Bewoners van Mennistenerf en Penn
 emes betalen voor een concert € 2\,50\, voor gasten van buiten is de toe
 gang € 5.Toegangskaartjes zijn te koop bij de receptie van Pennemes.
CATEGORIES:Muziek,Sociaal
LOCATION:Pennemes\, Bloemgracht 95\, Zaandam\, 1502 WB\, Nederland
X-APPLE-STRUCTURED-LOCATION;VALUE=URI;X-ADDRESS=Bloemgracht 95\, Zaandam\, 
 1502 WB\, Nederland;X-APPLE-RADIUS=100;X-TITLE=Pennemes:geo:0,0
END:VEVENT
BEGIN:VTIMEZONE
TZID:Europe/Amsterdam
X-LIC-LOCATION:Europe/Amsterdam
BEGIN:STANDARD
DTSTART:20241027T020000
TZOFFSETFROM:+0200
TZOFFSETTO:+0100
TZNAME:CET
END:STANDARD
END:VTIMEZONE
END:VCALENDAR