BEGIN:VCALENDAR
VERSION:2.0
PRODID:-//wp-events-plugin.com//7.2.3.1//EN
TZID:Europe/Amsterdam
X-WR-TIMEZONE:Europe/Amsterdam
BEGIN:VEVENT
UID:40240@agenda-zaanstreek.nl
DTSTART;TZID=Europe/Amsterdam:20250929T100000
DTEND;TZID=Europe/Amsterdam:20250929T100000
DTSTAMP:20250922T192153Z
URL:https://agenda-zaanstreek.nl/events/samen-wandelen-tegen-eenzaamheid-i
 n-oostzaan/
SUMMARY:Samen wandelen tegen eenzaamheid in Oostzaan
DESCRIPTION:Een uurtje wandelen kan veel doen. Tijdens de&nbsp\;Week tegen 
 Eenzaamheid&nbsp\;(25 september t/m 1 oktober) nodigt&nbsp\;Gezond Natuur 
 Wandelen&nbsp\;iedereen uit om mee te lopen in Oostzaan.\n\nStartpunt is T
 ennisclub ’t Twiske aan de Twiskeweg 99. Maandag 29 september om 10.00 u
 ur gaat de eerste groep op pad. Dinsdag 30 september\, ook om 10.00 uur\, 
 is er een speciale rollatorwandeling. Aanmelden is niet nodig: wie zin hee
 ft\, schuift gewoon aan.\n\nHet idee is simpel.\n\nSamen in rustig tempo w
 andelen\, de natuur bekijken\, een praatje maken. Juist dat is belangrijk\
 , want in de Zaanstreek voelt bijna de helft van de volwassenen zich welee
 ns eenzaam.
CATEGORIES:Recreatiesport
LOCATION:Tennisclub 't Twiske\, Twiskeweg 99\, Oostzaan\, 1511 BW\, Nederla
 nd
X-APPLE-STRUCTURED-LOCATION;VALUE=URI;X-ADDRESS=Twiskeweg 99\, Oostzaan\, 1
 511 BW\, Nederland;X-APPLE-RADIUS=100;X-TITLE=Tennisclub 't Twiske:geo:0,0
END:VEVENT
BEGIN:VTIMEZONE
TZID:Europe/Amsterdam
X-LIC-LOCATION:Europe/Amsterdam
BEGIN:DAYLIGHT
DTSTART:20250330T030000
TZOFFSETFROM:+0100
TZOFFSETTO:+0200
TZNAME:CEST
END:DAYLIGHT
END:VTIMEZONE
END:VCALENDAR