BEGIN:VCALENDAR
VERSION:2.0
PRODID:-//wp-events-plugin.com//7.2.3.1//EN
TZID:Europe/Amsterdam
X-WR-TIMEZONE:Europe/Amsterdam
BEGIN:VEVENT
UID:38171@agenda-zaanstreek.nl
DTSTART;TZID=Europe/Amsterdam:20250412T203000
DTEND;TZID=Europe/Amsterdam:20250412T203000
DTSTAMP:20250410T075911Z
URL:https://agenda-zaanstreek.nl/events/salsa-workshop-dansavond/
SUMMARY:Salsa workshop & dansavond
DESCRIPTION:Op zaterdag 12 april organiseert Buurtcentrum De Zeskanter same
 n met opbouwwerker Danielle een sprankelende salsa-avond!Van 20:30 tot 21:
 30 uur kun je meedoen aan een energieke salsa-workshop\, perfect voor begi
 nners én gevorderden. Geen partner nodig\, alleen jouw enthousiasme!Na de
  workshop gaat het feestje door tot 00:00 uur\, met de beste latin beats o
 m je helemaal uit te leven op de dansvloer!De entree is slechts € 5\,-. 
 Een avond vol gezelligheid\, muziek en dans voor een klein prijsje – wat
  wil je nog meer?Dus trek je dansschoenen aan en kom langs! Wij zorgen voo
 r de sfeer\, jij voor de moves.&nbsp\;
CATEGORIES:Dans
LOCATION:Buurtcentrum De Zeskanter\, Nieuwendamstraat 2 C\, Zaandam\, 1507 
 JE\, Nederland
X-APPLE-STRUCTURED-LOCATION;VALUE=URI;X-ADDRESS=Nieuwendamstraat 2 C\, Zaan
 dam\, 1507 JE\, Nederland;X-APPLE-RADIUS=100;X-TITLE=Buurtcentrum De Zeska
 nter:geo:0,0
END:VEVENT
BEGIN:VTIMEZONE
TZID:Europe/Amsterdam
X-LIC-LOCATION:Europe/Amsterdam
BEGIN:DAYLIGHT
DTSTART:20250330T030000
TZOFFSETFROM:+0100
TZOFFSETTO:+0200
TZNAME:CEST
END:DAYLIGHT
END:VTIMEZONE
END:VCALENDAR