BEGIN:VCALENDAR
VERSION:2.0
PRODID:-//wp-events-plugin.com//7.2.3.1//EN
TZID:Europe/Amsterdam
X-WR-TIMEZONE:Europe/Amsterdam
BEGIN:VEVENT
UID:36223@agenda-zaanstreek.nl
DTSTART;TZID=Europe/Amsterdam:20250207T203000
DTEND;TZID=Europe/Amsterdam:20250207T203000
DTSTAMP:20241205T111025Z
URL:https://agenda-zaanstreek.nl/events/said-el-abboudi-troost/
SUMMARY:Said el Abboudi - Troost
DESCRIPTION:&nbsp\;\nIn Troost&nbsp\;tovert Said el Abboudi zijn levenspad 
 om tot muzikaal theater. Hij neemt je mee naar zijn roots in Marokko\, waa
 r hij de confrontatie aan gaat met zichzelf. Een ontroerend\, maar vooral 
 ook herkenbaar en grappig verhaal met prachtige muziek van Dwight Breinbur
 g van het Amsterdam Andalusisch Orkest.\n\n\n\n\nSaid el Abboudi is zichze
 lf compleet kwijtgeraakt. Hij graaft in herinneringen uit zijn kindertijd 
 om beter te begrijpen wie hij vandaag de dag is. Hij durft alle ongemakkel
 ijkheden en verborgen emoties ruimte te geven en is niet bang om zich kwet
 sbaar op te stellen. Pijnlijke delen van zijn bewogen jeugd gaat hij dan o
 ok niet uit de weg. Hij onderzoekt welk effect dit heeft gehad op zijn hui
 dige leven en werpt een licht op herkenbare uitdagingen in onze hedendaags
 e samenleving. Samen met het publiek gaat Said op een helende reis om zich
 zelf terug te vinden. Muzikaal ondersteund door Dwight Breinburg van het A
 msterdams Andalusisch Orkest.\n\nOver Said el Abboudi\nSaid is acteur\, to
 neelschrijver en theatermaker. Als acteur speelde hij onder andere bij ZEP
 -theaterproducties\, Raymi Sambo Maakt\, Marmoucha en Vanaf2. Hij ontwikke
 lde in 2022 zijn eerste voorstelling&nbsp\;Theater is mijn redding&nbsp\;b
 ij Lab-Z.&nbsp\;Troost&nbsp\;is zijn tweede Lab-Z productie.\n\nOver Lab Z
 \nLab-Z – de ontwikkelplaats van Theater Zuidplein - biedt plek aan upco
 ming theatermakers die zich laten inspireren door de tijd waarin wij nu le
 ven en de wereld om ons heen. In de ondersteuning van deze makers staan pr
 oces\, professionalisering en publiek centraal.\n\n\n\n
CATEGORIES:Cabaret,Theater,Toneel
LOCATION:Zaantheater\, Nicolaasstraat 3\, Zaandam\, 1506 BB\, Nederland
X-APPLE-STRUCTURED-LOCATION;VALUE=URI;X-ADDRESS=Nicolaasstraat 3\, Zaandam\
 , 1506 BB\, Nederland;X-APPLE-RADIUS=100;X-TITLE=Zaantheater:geo:0,0
END:VEVENT
BEGIN:VTIMEZONE
TZID:Europe/Amsterdam
X-LIC-LOCATION:Europe/Amsterdam
BEGIN:STANDARD
DTSTART:20241027T020000
TZOFFSETFROM:+0200
TZOFFSETTO:+0100
TZNAME:CET
END:STANDARD
END:VTIMEZONE
END:VCALENDAR