BEGIN:VCALENDAR
VERSION:2.0
PRODID:-//wp-events-plugin.com//7.2.3.1//EN
TZID:Europe/Amsterdam
X-WR-TIMEZONE:Europe/Amsterdam
BEGIN:VEVENT
UID:36352@agenda-zaanstreek.nl
DTSTART;TZID=Europe/Amsterdam:20250627T200000
DTEND;TZID=Europe/Amsterdam:20250627T200000
DTSTAMP:20241212T104841Z
URL:https://agenda-zaanstreek.nl/events/saensation-white-dansavond-met-dj-
 deniece/
SUMMARY:Saensation White – dansavond met dj Deniece
DESCRIPTION:\n\n\n\n\n\n\n\n\n\n\n\n\n\n\n\n\n\n\n\n\n\n\n\n\nBe part of th
 e night\, dress in white!\n\nDe 3e editie van Saensation White is een feit
 . Iedereen in het wit gekleed op de mooiste locatie van Zaandam. Hoe gaaf 
 is dat?\n\nDj Deniece draait muziek uit de jaren ’70\, ’80\, ’90 en 
 zeroes.&nbsp\;Dat wordt een avond gevuld met de meest dansbare hitjes uit 
 de vorige decennia tot die ene guilty pleasure waar je stiekem nog steeds 
 veel te lekker op gaat en uit volle borst meezingt.\n\nDe vorige edities w
 aren stijf uitverkocht\, dus wees er op tijd bij! OP=OP\n\nAanvang: 20.00 
 uur\nEinde: 24.00 uur\n\nTickets:\nVoorverkoop € 9\,00 (+ € 1\,00 rese
 rveringskosten)\nTickets aan de deur € 10\,00\n\nVoor deze avond geldt e
 en minimum leeftijd van 21 jaar.\n\n\n\n\n\n\n\n\n\n\n\nKoop tickets\n\n\n
 \n\n\n\n\n\n\n
CATEGORIES:Muziek
LOCATION:Cultureel Centrum Bullekerk (Westzijderkerk)\, Westzijde 75\, Zaan
 dam\, 1506 ED\, Nederland
X-APPLE-STRUCTURED-LOCATION;VALUE=URI;X-ADDRESS=Westzijde 75\, Zaandam\, 15
 06 ED\, Nederland;X-APPLE-RADIUS=100;X-TITLE=Cultureel Centrum Bullekerk (
 Westzijderkerk):geo:0,0
END:VEVENT
BEGIN:VTIMEZONE
TZID:Europe/Amsterdam
X-LIC-LOCATION:Europe/Amsterdam
BEGIN:DAYLIGHT
DTSTART:20250330T030000
TZOFFSETFROM:+0100
TZOFFSETTO:+0200
TZNAME:CEST
END:DAYLIGHT
END:VTIMEZONE
END:VCALENDAR