BEGIN:VCALENDAR
VERSION:2.0
PRODID:-//wp-events-plugin.com//7.2.3.1//EN
TZID:Europe/Amsterdam
X-WR-TIMEZONE:Europe/Amsterdam
BEGIN:VEVENT
UID:40691@agenda-zaanstreek.nl
DTSTART;TZID=Europe/Amsterdam:20251123T150000
DTEND;TZID=Europe/Amsterdam:20251123T150000
DTSTAMP:20251120T103920Z
URL:https://agenda-zaanstreek.nl/events/ruben-hoeke-gitaarworkshop-3/
SUMMARY:Ruben Hoeke Gitaarworkshop
DESCRIPTION:\n\n\n\n\n\n\n\n\n\n 	\n\nzondag\, nov 23\, 2025Open: 14:00Aanv
 ang: 15:00Prijs: Deur: €7\,50\n\n\n\n\nDaar gaan we weer! Op zondagmidda
 g 23 november is het feest want dan staat de Groote Weiver geheel in het t
 eken van ‘De Gitaar’!Gitarist Ruben Hoeke (meerdere malen uitgeroepen 
 tot Nederlands beste Gitarist)\, komt dan met zijn voltallige band zijn ni
 euwe lichting gitaartalenten presenteren.‘’Jong\, oud\, man\, vrouw\, 
 kind\, bouwvakker\, advocaat\, reclasseringsambtenaar\, topsporter… Alle
 s komt samen met maar een doel: gitaarspelen!’\, aldus een enthousiaste 
 Hoeke.\n&nbsp\;\nNa tien weken zwoegen en zweten laten maar liefst dertig 
 ‘RH workshoppers’ zien en horen wat ze van de meester hebben opgestoke
 n. Verwacht een groot feest en een breed gevarieerd repertoire met nummers
  van o.a. The Rolling Stones\, David Bowie\, Creedence Clearwater Revival\
 , Vader Abraham\, Jimi Hendrix\, Elvis Presley\, The Beatles\, Neil Diamon
 d en vele anderen! ‘De optredens zijn altijd helemaal te gek. Het enthou
 siasme spat er altijd vanaf en iedereen gaat voor platina. Ik kijk er nu a
 l enorm naar uit en ik hoop dat de Groote Weiver afgeladen vol zit!’\, a
 ldus Hoeke\n\n\n\n\n\n\n
CATEGORIES:Cursus Workshop,Muziek
LOCATION:De Groote Weiver\, Industrieweg 1a\, Wormerveer\, 1521 NA\, Wormer
 veer\, Nederland
X-APPLE-STRUCTURED-LOCATION;VALUE=URI;X-ADDRESS=Industrieweg 1a\, Wormervee
 r\, 1521 NA\, Wormerveer\, Nederland;X-APPLE-RADIUS=100;X-TITLE=De Groote 
 Weiver:geo:0,0
END:VEVENT
BEGIN:VTIMEZONE
TZID:Europe/Amsterdam
X-LIC-LOCATION:Europe/Amsterdam
BEGIN:STANDARD
DTSTART:20251026T020000
TZOFFSETFROM:+0200
TZOFFSETTO:+0100
TZNAME:CET
END:STANDARD
END:VTIMEZONE
END:VCALENDAR