BEGIN:VCALENDAR
VERSION:2.0
PRODID:-//wp-events-plugin.com//7.2.3.1//EN
TZID:Europe/Amsterdam
X-WR-TIMEZONE:Europe/Amsterdam
BEGIN:VEVENT
UID:37246@agenda-zaanstreek.nl
DTSTART;TZID=Europe/Amsterdam:20250628T100000
DTEND;TZID=Europe/Amsterdam:20250628T230000
DTSTAMP:20250206T105146Z
URL:https://agenda-zaanstreek.nl/events/roze-zaterdag/
SUMMARY:Roze Zaterdag
DESCRIPTION:Het&nbsp\;programma&nbsp\;voor Roze Zaterdag op zaterdag 28 jun
 i in Zaanstad is bekend. Naast de oecumenische kerkdienst in de Vermaning 
 en de regenboogparade komen er vele artiesten optreden op podia in de Dams
 traat en op de Burcht in Zaandam. Voor jongeren is er een speciaal program
 ma op de vrijdagavond. Alle activiteiten zijn gratis toegankelijk. Wethoud
 er diversiteit Gerard Slegers (gemeente Zaanstad): “We zijn ongelooflijk
  trots dat Roze Zaterdag voor naar Zaanstad komt. We gaan er samen met onz
 e inwoners en bezoekers een onvergetelijk feest van maken. We vieren dat j
 e in Zaanstad mag zijn wie je bent.”\n\nEén van de artiesten die komt o
 ptreden is Samantha Steenwijk. De zangeres over Roze Zaterdag: “Het is e
 en op en top feel good festijn waar iedereen welkom is. We vieren het leve
 n en onze vrijheid!”\n\nStrijden voor onze rechten\n\nFrank Vos\, voorzi
 tter De Zaanse Regenboog: “Het is triest dat we meer dan vijf decennia n
 a de Stonewall Riots nog steeds moeten strijden tegen discriminatie en voo
 r onze rechten. Maar we gaan er zeker voor zorgen dat Roze Zaterdag Zaanst
 ad een geweldig feest wordt\, waar iedereen welkom is.”\n\nVerbinding tu
 ssen ál onze inwoners\n\nWethouder Slegers over het belang van Roze Zater
 dag: “Uit onderzoek komt naar voren dat de tolerantie ten aanzien van lh
 btiqa+-personen afneemt. Mensen uit de lhbtiqa+-gemeenschap hebben te make
 n hebben met discriminatie en soms zelfs met geweld. Dat is onacceptabel. 
 Wij willen dat iedereen zichzelf kan zijn en zich veilig voelt. Daarom is 
 zichtbaarheid van en steun aan de lhbtiqa+-gemeenschap ontzettend belangri
 jk. Door samen de vrijheid te vieren willen we zorgen voor meer verbinding
  tussen ál onze inwoners.”\n\nJongerenfeest op 27 juni\n\nHet thema van
  Roze Zaterdag 2025 is ‘De Zaanstreek in alle kleuren’. Rond de 40 vri
 jwilligers afkomstig uit verschillende doelgroepen hebben meegedacht over 
 de invulling van het programma. De brede programmering maakt het event aan
 trekkelijk voor veel verschillende doelgroepen.\nOp vrijdag 27 juni is er 
 een jongerenfeest van 19:00-23:00 uur. Op het podium in de Damstraat komen
  optredens van artiesten die populair zijn onder jongeren. Onder andere Bi
 lly Dans\, DJ Jess\, Ella John\, Relics en Ritchie treden op.\n\nProgramma
  28 juni Roze Zaterdag\n\nDe zaterdag gaat om 10:00 uur van start met een 
 oecumenische kerkdienst in De Vermaning\, georganiseerd door verschillende
  Zaanse kerken. Rondom het Sluizencomplex (Wilhelminasluis) is een informa
 tiemarkt van 12:00-17:00 uur. De regenboogparade (Pride Walk) start om 12:
 00 uur vanaf de Burcht. Via een route door het centrum van Zaandam eindigt
  de feestelijke en kleurrijke parade rond 14:00 uur weer bij de Burcht.\n\
 nFeest 14:00-00:00 uur podia Damstraat en de Burcht\n\nVanaf 14:00 start h
 et feest met een podium in de Damstraat en een groot podium op de Burcht. 
 De line up is een mix van aanstormend talent en grote namen. Een deel van 
 de artiesten is afkomstig uit Zaanstad.\n\nIn de Damstraat komen onder and
 ere de volgende artiesten optreden\n\n 	Wolter Kroes\n 	Vocal dj Jennifer 
 Cooke\n 	Helene Fischer Tribute\n 	Diva Mayday &amp\; Emmaly Brown\n 	Dave
  Dekker\n 	Robert Feelgood (DJ)\n 	Bryan B\n 	Miss Beulah\n 	Storm (Boyban
 d)\n 	Debbie de Witte\n 	Een greep uit de line up op de Burcht\nStanley Bu
 rleson\n 	Karin Bloemen\n 	Samantha Steenwijk\n 	Berget Lewis\n 	Story of 
 Boyband (Charly Luske)\n 	Replay\n 	Glenn de Koning\n 	80’s &amp\; 90’
 s Band\n 	Diva’s of Dance\n 	Rainbow Club (DJ’s Barry Paf &amp\; Menno
  de Boer)\n\nCulture instellingen doen mee\n\nVerschillende Zaanse culture
 le instellingen leveren een bijdrage aan Roze Zaterdag. In de muziekkapel 
 op de Gedempte Gracht zullen verschillende Zaanse koren optreden. Het Zaan
 theater organiseert op 28 juni allerlei activiteiten zoals een pop-up stor
 e met dragkleding en -schoenen\, een silent disco en een feest in de klein
 e zaal. Museum of Humanity zal grote doeken tentoonstellen van portretten 
 van mensen uit de queer community op verschillende plekken in de stad. Op 
 het Stadhuis is Legopride te zien. Onderdelen van de regenboogparade en Za
 anse iconische gebouwen worden nagebouwd met Lego.\n\nMolens verlicht Comi
 ng Out Day\n\nDe organisatie van Roze Zaterdag is in handen van: Gemeente 
 Zaanstad\, De Zaanse Regenboog\, Discriminatie.nl Zaanstreek-Waterland en 
 Stichting Marketing Zaanstreek. Het is de eerste keer dat het event in Zaa
 nstad wordt georganiseerd. Vanaf de sleuteloverdracht op 22 juni 2024 zijn
  er het hele jaar door verschillende activiteiten en kleinere evenementen 
 die bijdragen aan meer acceptatie van lhbtiqa+-mensen. Zo werden op Coming
  Out Day op 11 oktober 2024 de molens op de Zaanse Schans verlicht in rege
 nboogkleuren. Het hele jaar door loopt er een programma op middelbare scho
 len om er voor te zorgen dat meer scholen een&nbsp\;GSA-netwerk&nbsp\;opbo
 uwen. Op sportgebied wordt in samenwerking met&nbsp\;John Blankenstein Fou
 ndation&nbsp\;ingezet op de invoering van een Veilig Sportklimaat bij meer
  sportverenigingen.\n\nOudste pride van Nederland\n\nRoze Zaterdag is de o
 udste pride van Nederland. Elk jaar is er een andere gaststad. Roze Zaterd
 ag staat voor inclusie\, acceptatie\, anti-discriminatie én gelijkheid. H
 et evenement biedt ruimte voor informatie\, debat\, feest\, ontmoeting en 
 zichtbaarheid met als doel meer acceptatie van de lhbtiqa+-gemeenschap. St
 ichting Roze Zaterdagen Nederland bewaakt en beschermt de formule van het 
 evenement.
CATEGORIES:Evenement,Muziek,Sociaal | LHBTQI-gemeenschap
LOCATION:Zaandam\, -\, -\, Nederland
X-APPLE-STRUCTURED-LOCATION;VALUE=URI;X-ADDRESS=-\, -\, Nederland;X-APPLE-R
 ADIUS=100;X-TITLE=Zaandam:geo:0,0
END:VEVENT
BEGIN:VTIMEZONE
TZID:Europe/Amsterdam
X-LIC-LOCATION:Europe/Amsterdam
BEGIN:DAYLIGHT
DTSTART:20250330T030000
TZOFFSETFROM:+0100
TZOFFSETTO:+0200
TZNAME:CEST
END:DAYLIGHT
END:VTIMEZONE
END:VCALENDAR