BEGIN:VCALENDAR
VERSION:2.0
PRODID:-//wp-events-plugin.com//7.2.3.1//EN
TZID:Europe/Amsterdam
X-WR-TIMEZONE:Europe/Amsterdam
BEGIN:VEVENT
UID:36873@agenda-zaanstreek.nl
DTSTART;TZID=Europe/Amsterdam:20250628T120000
DTEND;TZID=Europe/Amsterdam:20250628T120000
DTSTAMP:20250118T130403Z
URL:https://agenda-zaanstreek.nl/events/roze-zaterdag-zaanpride-2025/
SUMMARY:Roze Zaterdag & ZaanPride 2025
DESCRIPTION:Inschrijving De Zaanse Regenboogparade Roze Zaterdag 2025 Zaans
 tad - Agenda Zaanstreek
CATEGORIES:Evenement,Sociaal | LHBTQI-gemeenschap
LOCATION:De Burcht\, De Burcht\, Zaandam\, Nederland
X-APPLE-STRUCTURED-LOCATION;VALUE=URI;X-ADDRESS=De Burcht\, Zaandam\, Neder
 land;X-APPLE-RADIUS=100;X-TITLE=De Burcht:geo:0,0
END:VEVENT
BEGIN:VTIMEZONE
TZID:Europe/Amsterdam
X-LIC-LOCATION:Europe/Amsterdam
BEGIN:DAYLIGHT
DTSTART:20250330T030000
TZOFFSETFROM:+0100
TZOFFSETTO:+0200
TZNAME:CEST
END:DAYLIGHT
END:VTIMEZONE
END:VCALENDAR